BEGIN:VCALENDAR
VERSION:2.0
PRODID:-//Urban Milwaukee - ECPv4.6.9//NONSGML v1.0//EN
CALSCALE:GREGORIAN
METHOD:PUBLISH
X-WR-CALNAME:Urban Milwaukee
X-ORIGINAL-URL:https://urbanmilwaukee.com
X-WR-CALDESC:Events for Urban Milwaukee
BEGIN:VEVENT
DTSTART;TZID=America/Chicago:20170419T130000
DTEND;TZID=America/Chicago:20170419T151500
DTSTAMP:20260421T190507
CREATED:20161122T041059Z
LAST-MODIFIED:20161122T041059Z
UID:190966-1492606800-1492614900@urbanmilwaukee.com
SUMMARY:Great Expectations
DESCRIPTION:by Charles Dickens; Adapted by Gale Childs Daly \nRunning Time: 2 hours:15 min \nCabot Theatre \nDirected by Molly Rhode \nFeaturing Andrew Crowe\, Jonathan Gillard Daly\, Karen Estrada\, Chike Johnson\, Josh Krause\, Deborah Staples and Zach Thomas Woods \nIn this literary gem\, Pip\, an orphan boy\, has a life-altering encounter one day on the moors when he helps an escaped convict named Magwitch. From this singular act of kindness\, Pip starts on a mysterious and disturbing journey to manhood that is full of twists and turns\, miraculously allowing him to advance in society while all of his great expectations seem to be coming true. Packed with curious and fascinating characters\, shadow and light\, Gale Childs Daly’s exceptional and bold reinvention of the classic Dickens novel is uncommonly tight and suspenseful – a fast-paced theatrical treat! \n
URL:https://urbanmilwaukee.com/event/great-expectations-5/
CATEGORIES:Arts & Entertainment
ATTACH;FMTTYPE=image/jpeg:https://urbanmilwaukee.com/wp-content/uploads/2016/08/Great-Expectations-Horizontal.jpg
END:VEVENT
BEGIN:VEVENT
DTSTART;TZID=America/Chicago:20170419T160000
DTEND;TZID=America/Chicago:20170419T170000
DTSTAMP:20260421T190507
CREATED:20170408T094515Z
LAST-MODIFIED:20170408T094515Z
UID:205977-1492617600-1492621200@urbanmilwaukee.com
SUMMARY:Year One to R1: UWM's Challenging Ascent
DESCRIPTION:Former University of Wisconsin-Milwaukee Chancellor and Emeritus Professor of History John Schroeder will present a lecture\, “Year One to R1: UWM’s Challenging Ascent\,” at 4 p.m. on Wednesday\, April 19\, 2017 in the fourth floor Conference Center of the UWM Golda Meir Library\, 2311 E. Hartford Ave. \nSchroeder will describe how UWM overcame obstacles to rise from a fledgling university in 1956 to a major research university in 2016. \nHis talk will focus on the initial three decades of UWM’s history as a new university. Between roughly 1956 and the late 1980s\, UWM faced and overcame successfully a number of challenges and obstacles which put the university firmly on the road to achieving Research 2 status in the mid 1990s and then Research 1 status in 2016. \nJohn Schroeder served as Chancellor from 1991 to 1998. He is the author of six books\, including The Battle of Lake Champlain: A “Brilliant and Extraordinary Victory” (2016\, University of Oklahoma Press). \nThis lecture\, free and open to the public\, is sponsored by the UWM Archives. \n
URL:https://urbanmilwaukee.com/event/year-one-to-r1-uwms-challenging-ascent/
CATEGORIES:Arts & Entertainment
ATTACH;FMTTYPE=image/jpeg:https://urbanmilwaukee.com/wp-content/uploads/2017/03/archive_lecture1-1.jpg
END:VEVENT
BEGIN:VEVENT
DTSTART;TZID=America/Chicago:20170419T193000
DTEND;TZID=America/Chicago:20170419T213000
DTSTAMP:20260421T190507
CREATED:20161114T153104Z
LAST-MODIFIED:20161114T153104Z
UID:190025-1492630200-1492637400@urbanmilwaukee.com
SUMMARY:The Violet Hour
DESCRIPTION:In 1919\, the dawn of the Jazz Age\, young John Pace Seavering opens his own publishing company in a cramped Manhattan office with the help of his tightly wound assistant Gidger. \nBut before John can publish his first book\, a strange machine of mysterious origin is delivered to the office. As Gidger suspiciously examines the bizarre contraption\, which has started ticking violently\, two would-be authors arrive. They are Dennis McCleary\, John’s best friend and a gifted novelist\, and Jessie Brewster\, a famed Jazz singer and John’s secret mistress\, who has written a tell-all memoir. \nWith only enough capital to produce one book\, John is caught between the two. But his struggle is cut short when the machine explodes shooting reams of paper all over the room. What’s written on these pages will throw John’s dreams and plans into disarray. THE VIOLET HOUR is a hilarious & heartfelt tale with a touch of magical realism. \n
URL:https://urbanmilwaukee.com/event/the-violet-hour-12/
LOCATION:158 N. Broadway\, Milwaukee\, WI\, 53202\, United States
CATEGORIES:Arts & Entertainment
ATTACH;FMTTYPE=image/jpeg:https://urbanmilwaukee.com/wp-content/uploads/2016/07/Violet-Hour.jpg
END:VEVENT
BEGIN:VEVENT
DTSTART;TZID=America/Chicago:20170419T193000
DTEND;TZID=America/Chicago:20170419T214500
DTSTAMP:20260421T190507
CREATED:20161122T041152Z
LAST-MODIFIED:20161122T041152Z
UID:190967-1492630200-1492638300@urbanmilwaukee.com
SUMMARY:Great Expectations
DESCRIPTION:by Charles Dickens; Adapted by Gale Childs Daly \nRunning Time: 2 hours:15 min \nCabot Theatre \nDirected by Molly Rhode \nFeaturing Andrew Crowe\, Jonathan Gillard Daly\, Karen Estrada\, Chike Johnson\, Josh Krause\, Deborah Staples and Zach Thomas Woods \nIn this literary gem\, Pip\, an orphan boy\, has a life-altering encounter one day on the moors when he helps an escaped convict named Magwitch. From this singular act of kindness\, Pip starts on a mysterious and disturbing journey to manhood that is full of twists and turns\, miraculously allowing him to advance in society while all of his great expectations seem to be coming true. Packed with curious and fascinating characters\, shadow and light\, Gale Childs Daly’s exceptional and bold reinvention of the classic Dickens novel is uncommonly tight and suspenseful – a fast-paced theatrical treat! \n
URL:https://urbanmilwaukee.com/event/great-expectations-6/
CATEGORIES:Arts & Entertainment
ATTACH;FMTTYPE=image/jpeg:https://urbanmilwaukee.com/wp-content/uploads/2016/08/Great-Expectations-Horizontal.jpg
END:VEVENT
END:VCALENDAR