BEGIN:VCALENDAR
VERSION:2.0
PRODID:-//Urban Milwaukee - ECPv4.6.9//NONSGML v1.0//EN
CALSCALE:GREGORIAN
METHOD:PUBLISH
X-WR-CALNAME:Urban Milwaukee
X-ORIGINAL-URL:https://urbanmilwaukee.com
X-WR-CALDESC:Events for Urban Milwaukee
BEGIN:VEVENT
DTSTART;TZID=America/Chicago:20170404T170000
DTEND;TZID=America/Chicago:20170404T180000
DTSTAMP:20260420T163547
CREATED:20170718T050246Z
LAST-MODIFIED:20170718T050246Z
UID:204269-1491325200-1491328800@urbanmilwaukee.com
SUMMARY:Prostitution vs. Sex Trafficking: Emerging Issues\, Strategies and Best Practices
DESCRIPTION:Helen Bader Institute for Nonprofit Management – Research Colloquium Series \nDr. Joan Blakey’s presentation will focus on and highlight the main differences between prostitution and sex trafficking\, and how these differences impact social work practice. \nIn addition to discussing current strategies being used to address prostitution/sex trafficking\, including the benefits and drawbacks of each strategy\, and how to work with women who have histories of prostitution and/or sex trafficking\, Professor Blakey is also going to discuss action steps for community members and nonprofit organizations. \nThis event is free and open to the public. \n
URL:https://urbanmilwaukee.com/event/prostitution-vs-sex-trafficking-emerging-issues-strategies-and-best-practices/
END:VEVENT
END:VCALENDAR