BEGIN:VCALENDAR
VERSION:2.0
PRODID:-//Urban Milwaukee - ECPv4.6.9//NONSGML v1.0//EN
CALSCALE:GREGORIAN
METHOD:PUBLISH
X-WR-CALNAME:Urban Milwaukee
X-ORIGINAL-URL:https://urbanmilwaukee.com
X-WR-CALDESC:Events for Urban Milwaukee
BEGIN:VEVENT
DTSTART;TZID=America/Chicago:20170402T130000
DTEND;TZID=America/Chicago:20170402T152500
DTSTAMP:20260420T133031
CREATED:20161115T094711Z
LAST-MODIFIED:20161115T094711Z
UID:190201-1491138000-1491146700@urbanmilwaukee.com
SUMMARY:Cinderella
DESCRIPTION:Rodgers + Hammerstein’s CINDERELLA is the Tony Award®- winning Broadway musical from the creators of The Sound of Music and South Pacific that’s delighting audiences with its contemporary take on the classic tale. This lush production features an incredible orchestra\, jaw-dropping transformations and all the moments you love—the pumpkin\, the glass slipper\, the masked ball and more—plus some surprising new twists! Be transported back to your childhood as you rediscover some of Rodgers + Hammerstein’s most beloved songs\, including “In My Own Little Corner\,” “Impossible/It’s Possible” and “Ten Minutes Ago\,” in this hilarious and romantic Broadway experience for anyone who’s ever had a wish\, a dream… or a really great pair of shoes. \n
URL:https://urbanmilwaukee.com/event/cinderella-7/
LOCATION:929 N. Water St.\, Milwaukee\, WI\, 53202\, United States
CATEGORIES:Arts & Entertainment
ATTACH;FMTTYPE=image/jpeg:https://urbanmilwaukee.com/wp-content/uploads/2016/04/rodgers-and-hammersteins-cinderella-show-detail-1.jpg
END:VEVENT
BEGIN:VEVENT
DTSTART;TZID=America/Chicago:20170402T140000
DTEND;TZID=America/Chicago:20170402T150000
DTSTAMP:20260420T133031
CREATED:20170316T130437Z
LAST-MODIFIED:20170316T130540Z
UID:203939-1491141600-1491145200@urbanmilwaukee.com
SUMMARY:“Wiscon-Sing” at Schlitz Audubon Nature Center
DESCRIPTION:WISCON-SING has been seen throughout our state as a sing-along song and slide portrait of the state of Wisconsin. The hour-long program presents songs that introduce Wisconsin from the original inhabitants through the European immigration up to our present day farmers and Great Lakes sailors. David HB Drake plays a variety of handmade and historic instruments including Indian Courting Flute\, Mountain Banjo\, Dulcimer\, and Concertina in addition to Guitar. Sample video at www.davidhbdrake.com/wisconsing.htm \n
URL:https://urbanmilwaukee.com/event/wiscon-sing-at-schlitz-audubon-nature-center/
LOCATION:WI
CATEGORIES:Arts & Entertainment
ATTACH;FMTTYPE=image/jpeg:https://urbanmilwaukee.com/wp-content/uploads/2017/03/WI-SING-best.jpg
END:VEVENT
BEGIN:VEVENT
DTSTART;TZID=America/Chicago:20170402T153000
DTEND;TZID=America/Chicago:20170402T170000
DTSTAMP:20260420T133031
CREATED:20170320T160123Z
LAST-MODIFIED:20170320T161045Z
UID:204372-1491147000-1491152400@urbanmilwaukee.com
SUMMARY:DanceCircus concert "...about TIME"
DESCRIPTION:DanceCircus\, dance-theatre with a topical edge presents: “To Think of Time” a dance-theatre performance with Betty Salamun’s choreography illuminating Walt Whitman’s poetry to the sound score of Ted Brusubardis’ music and the late Jeff Poniewaz’ powerful voice. \nIn Sunny Side-Up\, Salamun returns as the sun-goddess Sowilo – the ultimate source of time – on a freewheeling tour of sun mythology and science traveling straight through to science fiction. Solar facts and fiction are woven into the dazzling music of international composer Marjorie Rusche’s Eclipse. \nLooking back in time to medieval philosophy\, company member Michaele Chaigneau-Norton explores ‘ether\,’ the quintessence or spirit essence\, as the fifth element after earth\, water\, air\, fire. QUINTESSENCE sets a quintet of dancers in patterns of shifting actions\, which shape the individual through the interplay of all the moving parts. \n
URL:https://urbanmilwaukee.com/event/dancecircus-concert-about-time/
LOCATION:1661 N. Water St.\, Milwaukee\, WI\, 53202\, United States
CATEGORIES:Arts & Entertainment
ATTACH;FMTTYPE=image/jpeg:https://urbanmilwaukee.com/wp-content/uploads/2017/03/image026-2.jpg
END:VEVENT
BEGIN:VEVENT
DTSTART;TZID=America/Chicago:20170402T160000
DTEND;TZID=America/Chicago:20170402T173000
DTSTAMP:20260420T133031
CREATED:20170316T125457Z
LAST-MODIFIED:20170316T125457Z
UID:203945-1491148800-1491154200@urbanmilwaukee.com
SUMMARY:Author Michelle Brafman to visit JCC
DESCRIPTION:Author and Milwaukee native Michelle Brafman will visit the JCC to discuss her second book\, Bertrand Court\, a novel told in story form that intertwines seventeen narratives about the secrets of a cast of characters that are all linked together. Three of the Bertrand Court stories are set in Wisconsin – two in Milwaukee and include a number of local references. The free event takes place at 4:00 p.m. on Sunday\, April 2 at the JCC. It will be hosted by Jody Hirsh\, JCC Judaic education director\, and is open to the public. For more information\, contact Jody Hirsh at 414-967-8199 \n
URL:https://urbanmilwaukee.com/event/author-michelle-brafman-to-visit-jcc/
LOCATION:WI
CATEGORIES:Arts & Entertainment
ATTACH;FMTTYPE=image/jpeg:https://urbanmilwaukee.com/wp-content/uploads/2017/03/Michelle-Brafman.jpg
END:VEVENT
BEGIN:VEVENT
DTSTART;TZID=America/Chicago:20170402T183000
DTEND;TZID=America/Chicago:20170402T205500
DTSTAMP:20260420T133031
CREATED:20161115T094752Z
LAST-MODIFIED:20161115T094752Z
UID:190202-1491157800-1491166500@urbanmilwaukee.com
SUMMARY:Cinderella
DESCRIPTION:Rodgers + Hammerstein’s CINDERELLA is the Tony Award®- winning Broadway musical from the creators of The Sound of Music and South Pacific that’s delighting audiences with its contemporary take on the classic tale. This lush production features an incredible orchestra\, jaw-dropping transformations and all the moments you love—the pumpkin\, the glass slipper\, the masked ball and more—plus some surprising new twists! Be transported back to your childhood as you rediscover some of Rodgers + Hammerstein’s most beloved songs\, including “In My Own Little Corner\,” “Impossible/It’s Possible” and “Ten Minutes Ago\,” in this hilarious and romantic Broadway experience for anyone who’s ever had a wish\, a dream… or a really great pair of shoes. \n
URL:https://urbanmilwaukee.com/event/cinderella-8/
LOCATION:929 N. Water St.\, Milwaukee\, WI\, 53202\, United States
CATEGORIES:Arts & Entertainment
ATTACH;FMTTYPE=image/jpeg:https://urbanmilwaukee.com/wp-content/uploads/2016/04/rodgers-and-hammersteins-cinderella-show-detail-1.jpg
END:VEVENT
END:VCALENDAR