BEGIN:VCALENDAR
VERSION:2.0
PRODID:-//Urban Milwaukee - ECPv4.6.9//NONSGML v1.0//EN
CALSCALE:GREGORIAN
METHOD:PUBLISH
X-WR-CALNAME:Urban Milwaukee
X-ORIGINAL-URL:https://urbanmilwaukee.com
X-WR-CALDESC:Events for Urban Milwaukee
BEGIN:VEVENT
DTSTART;TZID=America/Chicago:20170325T140000
DTEND;TZID=America/Chicago:20170325T170000
DTSTAMP:20260419T231616
CREATED:20170221T222641Z
LAST-MODIFIED:20170221T222641Z
UID:201432-1490450400-1490461200@urbanmilwaukee.com
SUMMARY:Exhibition Opening: Tom Bamberger: Hyperphotographic
DESCRIPTION:For the first time in history\, the Museum of Wisconsin Art will dedicate all three changing exhibition spaces to the work of a single artist—Tom Bamberger. Hyperphotographic is the artist’s first major retrospective and a celebration of his recent gift to the museum of almost four hundred photographs. \n
URL:https://urbanmilwaukee.com/event/exhibition-opening-tom-bamberger-hyperphotographic/
LOCATION:205 Veterans Ave.\, West Bend\, WI\, 53095\, United States
CATEGORIES:Arts & Entertainment
ATTACH;FMTTYPE=image/jpeg:https://urbanmilwaukee.com/wp-content/uploads/2017/02/bamberger_windmills.jpg
END:VEVENT
BEGIN:VEVENT
DTSTART;TZID=America/Chicago:20170325T193000
DTEND;TZID=America/Chicago:20170325T193000
DTSTAMP:20260419T231616
CREATED:20170316T131702Z
LAST-MODIFIED:20170316T131702Z
UID:204124-1490470200-1490470200@urbanmilwaukee.com
SUMMARY:Zémire et Azor (Beauty and the Beast)
DESCRIPTION:Based on the story of Beauty and the Beast\, this Baroque opera showcases the well-known fairy tale in a new light\, while remaining true to its message of the redemptive power of love and the true nature of inner beauty. \nBy French composer André Grétry\, text by Jean François Marmontel\, based on “La Belle et la Bête” (Beauty and the Beast) by Jeanne-Marie Leprince de Beaumont and “Amour pour Amour” by P.C. Nivelle de La Chaussée. \n
URL:https://urbanmilwaukee.com/event/zemire-et-azor-beauty-and-the-beast-3/
LOCATION:158 N. Broadway\, Milwaukee\, WI\, 53202\, United States
CATEGORIES:Arts & Entertainment
ATTACH;FMTTYPE=image/jpeg:https://urbanmilwaukee.com/wp-content/uploads/2016/08/Beauty-Website1.jpg
END:VEVENT
BEGIN:VEVENT
DTSTART;TZID=America/Chicago:20170325T193000
DTEND;TZID=America/Chicago:20170325T210000
DTSTAMP:20260419T231616
CREATED:20170320T161620Z
LAST-MODIFIED:20170320T161620Z
UID:204378-1490470200-1490475600@urbanmilwaukee.com
SUMMARY:DanceCircus concert "...about TIME"
DESCRIPTION:DanceCircus\, dance-theatre with a topical edge presents: “To Think of Time” a dance-theatre performance with Betty Salamun’s choreography illuminating Walt Whitman’s poetry to the sound score of Ted Brusubardis’ music and the late Jeff Poniewaz’ powerful voice. \nIn Sunny Side-Up\, Salamun returns as the sun-goddess Sowilo – the ultimate source of time – on a freewheeling tour of sun mythology and science traveling straight through to science fiction. Solar facts and fiction are woven into the dazzling music of international composer Marjorie Rusche’s Eclipse. \nLooking back in time to medieval philosophy\, company member Michaele Chaigneau-Norton explores ‘ether\,’ the quintessence or spirit essence\, as the fifth element after earth\, water\, air\, fire. QUINTESSENCE sets a quintet of dancers in patterns of shifting actions\, which shape the individual through the interplay of all the moving parts. \n
URL:https://urbanmilwaukee.com/event/dancecircus-concert-about-time-4/
LOCATION:1661 N. Water St.\, Milwaukee\, WI\, 53202\, United States
CATEGORIES:Arts & Entertainment
ATTACH;FMTTYPE=image/jpeg:https://urbanmilwaukee.com/wp-content/uploads/2017/03/image026-2.jpg
END:VEVENT
BEGIN:VEVENT
DTSTART;TZID=America/Chicago:20170325T200000
DTEND;TZID=America/Chicago:20170325T220000
DTSTAMP:20260419T231616
CREATED:20170202T185716Z
LAST-MODIFIED:20170202T185716Z
UID:199152-1490472000-1490479200@urbanmilwaukee.com
SUMMARY:Interlocking Rhythms: TAIKOPROJECT + Ryutaro Kaneko
DESCRIPTION:The dynamic and powerful TAIKOPROJECT has dazzled audiences for 15 years with its unique contemporary blend of taiko\, music\, storytelling\, and choreography. The first American company to win Tokyo’s International Taiko Contest\, the company unites ancient Japanese tradition with 21st-century innovation. Blending TAIKOPROJECT’s groundbreaking aesthetic and youthful energy with the nuanced virtuosity of Ryutaro Kaneko\, the former Artistic Director for the world-famous Kodo drummers\, “Interlocking Rhythms” is a musical journey like no other taiko show in the world. Besides the raw\, primal power of the taiko – an ancient Japanese drumming style\, with origins dating back to the sixth-century AD – the artists present a number of new collaborative works\, featuring the koto (Japanese harp/zither)\, yokobue (Japanese bamboo flutes)\, chappa (Japanese hand cymbals)\, marimba\, and udu (clay pot drum). Tickets are $49-$71. Call 262-781-9520 or go to www.wilson-center.com. \n
URL:https://urbanmilwaukee.com/event/interlocking-rhythms-taikoproject-ryutaro-kaneko/
CATEGORIES:Arts & Entertainment
ATTACH;FMTTYPE=image/jpeg:https://urbanmilwaukee.com/wp-content/uploads/2017/01/TaikoProject.jpg
END:VEVENT
END:VCALENDAR