BEGIN:VCALENDAR
VERSION:2.0
PRODID:-//Urban Milwaukee - ECPv4.6.9//NONSGML v1.0//EN
CALSCALE:GREGORIAN
METHOD:PUBLISH
X-WR-CALNAME:Urban Milwaukee
X-ORIGINAL-URL:https://urbanmilwaukee.com
X-WR-CALDESC:Events for Urban Milwaukee
BEGIN:VEVENT
DTSTART;TZID=America/Chicago:20170322T180000
DTEND;TZID=America/Chicago:20170322T200000
DTSTAMP:20260419T180821
CREATED:20170221T214439Z
LAST-MODIFIED:20170221T214439Z
UID:201399-1490205600-1490212800@urbanmilwaukee.com
SUMMARY:Home Brewing Basics Series
DESCRIPTION:There’s a fascinating science behind the bottle of your favorite beer. In this two-session series\, we will explore the natural process of fermentation and brew a batch of ale together. The price includes four bottles of finished beer. For adults age 21 and over. \nSession 1: Brewing Equipment\, Recipes\, Preparation and Fermentation\nWednesday\, March 22 \nSession 2: Bottling and Aging\nWednesday\, April 26 \n
URL:https://urbanmilwaukee.com/event/home-brewing-basics-series/
CATEGORIES:Food & Drink
ATTACH;FMTTYPE=image/jpeg:https://urbanmilwaukee.com/wp-content/uploads/2017/02/home-brewing.jpg
END:VEVENT
BEGIN:VEVENT
DTSTART;TZID=America/Chicago:20170322T190000
DTEND;TZID=America/Chicago:20170322T210000
DTSTAMP:20260419T180821
CREATED:20161227T150945Z
LAST-MODIFIED:20161227T150945Z
UID:195109-1490209200-1490216400@urbanmilwaukee.com
SUMMARY:The United States Navy Concert Band
DESCRIPTION:The United States Navy Concert Band\, the premier wind ensemble of the U.S Navy\, presents a wide array of marches\, patriotic selections\, orchestral transcriptions and modern wind ensemble repertoire. As the original ensemble of the Navy Band\, the Concert Band has been performing public concerts and participating in high-profile events for over 85 years. \nRecognized as one of the finest wind ensembles in the world\, the Concert Band is in constant demand by the nation’s foremost musical education organizations\, such as the American Bandmasters Association and The Midwest Clinic. \nThis event is free and open to the public! \n
URL:https://urbanmilwaukee.com/event/the-united-states-navy-concert-band/
CATEGORIES:Arts & Entertainment
ATTACH;FMTTYPE=image/jpeg:https://urbanmilwaukee.com/wp-content/uploads/2016/12/the-united-states-navy-band-concert-show-detail.jpg
END:VEVENT
BEGIN:VEVENT
DTSTART;TZID=America/Chicago:20170322T193000
DTEND;TZID=America/Chicago:20170322T193000
DTSTAMP:20260419T180821
CREATED:20170316T131527Z
LAST-MODIFIED:20170316T131527Z
UID:204122-1490211000-1490211000@urbanmilwaukee.com
SUMMARY:Zémire et Azor (Beauty and the Beast)
DESCRIPTION:Based on the story of Beauty and the Beast\, this Baroque opera showcases the well-known fairy tale in a new light\, while remaining true to its message of the redemptive power of love and the true nature of inner beauty. \nBy French composer André Grétry\, text by Jean François Marmontel\, based on “La Belle et la Bête” (Beauty and the Beast) by Jeanne-Marie Leprince de Beaumont and “Amour pour Amour” by P.C. Nivelle de La Chaussée. \n
URL:https://urbanmilwaukee.com/event/zemire-et-azor-beauty-and-the-beast/
LOCATION:158 N. Broadway\, Milwaukee\, WI\, 53202\, United States
CATEGORIES:Arts & Entertainment
ATTACH;FMTTYPE=image/jpeg:https://urbanmilwaukee.com/wp-content/uploads/2016/08/Beauty-Website1.jpg
END:VEVENT
END:VCALENDAR