BEGIN:VCALENDAR
VERSION:2.0
PRODID:-//Urban Milwaukee - ECPv4.6.9//NONSGML v1.0//EN
CALSCALE:GREGORIAN
METHOD:PUBLISH
X-WR-CALNAME:Urban Milwaukee
X-ORIGINAL-URL:https://urbanmilwaukee.com
X-WR-CALDESC:Events for Urban Milwaukee
BEGIN:VEVENT
DTSTART;TZID=America/Chicago:20170319T130000
DTEND;TZID=America/Chicago:20170319T130000
DTSTAMP:20260419T132421
CREATED:20160825T044501Z
LAST-MODIFIED:20160825T044501Z
UID:178848-1489928400-1489928400@urbanmilwaukee.com
SUMMARY:Milwaukee Youth Symphony Orchestra presents Davidson Chamber Recitals
DESCRIPTION:Presenting various performances from the extensive Davidson Chamber Ensemble Program. \n
URL:https://urbanmilwaukee.com/event/milwaukee-youth-symphony-orchestra-presents-davidson-chamber-recitals/
CATEGORIES:Arts & Entertainment
ATTACH;FMTTYPE=image/jpeg:https://urbanmilwaukee.com/wp-content/uploads/2016/07/13-Davidson-Chamber-Ensembles-Recitals.jpg
END:VEVENT
BEGIN:VEVENT
DTSTART;TZID=America/Chicago:20170319T140000
DTEND;TZID=America/Chicago:20170319T153000
DTSTAMP:20260419T132421
CREATED:20170228T000613Z
LAST-MODIFIED:20170228T000613Z
UID:202184-1489932000-1489937400@urbanmilwaukee.com
SUMMARY:The Few
DESCRIPTION:by Samuel D. Hunter \nRunning Time: 90 minutes \nStudio Theatre\nDirected by C. Michael Wright\nFeaturing Mitch Bultman\, Mary MacDonald Kerr and James Ridge \nIt’s 1999; uncertainty and instability are in the air. Four years earlier\, Bryan had abandoned his labor of love\, a newspaper for truckers. Now he’s returned to small-town Idaho – with no word of where he’s been – and things have changed. His former lover is filled with rage\, his new coworker is filled with incessant adoration\, and his paper is filled with personal ads. From Samuel D. Hunter\, award winning-author and recent recipient of the MacArthur Foundation “Genius” Grant\, comes this compassionate\, gently-hued drama about lonely lives desperately searching for a renewed faith in humanity. [Contains mature language] \n
URL:https://urbanmilwaukee.com/event/the-few-25/
LOCATION:158 N. Broadway\, Milwaukee\, WI\, 53202\, United States
CATEGORIES:Arts & Entertainment
ATTACH;FMTTYPE=image/jpeg:https://urbanmilwaukee.com/wp-content/uploads/2016/06/few_lg.jpg
END:VEVENT
BEGIN:VEVENT
DTSTART;TZID=America/Chicago:20170319T140000
DTEND;TZID=America/Chicago:20170319T140000
DTSTAMP:20260419T132421
CREATED:20170316T131206Z
LAST-MODIFIED:20170316T131331Z
UID:204121-1489932000-1489932000@urbanmilwaukee.com
SUMMARY:Zémire et Azor (Beauty and the Beast)
DESCRIPTION:Based on the story of Beauty and the Beast\, this Baroque opera showcases the well-known fairy tale in a new light\, while remaining true to its message of the redemptive power of love and the true nature of inner beauty. \nBy French composer André Grétry\, text by Jean François Marmontel\, based on “La Belle et la Bête” (Beauty and the Beast) by Jeanne-Marie Leprince de Beaumont and “Amour pour Amour” by P.C. Nivelle de La Chaussée. \n
URL:https://urbanmilwaukee.com/event/skylight-music-theatre-presents-zemire-et-azor-beauty-and-the-beast-3/
LOCATION:158 N. Broadway\, Milwaukee\, WI\, 53202\, United States
CATEGORIES:Arts & Entertainment
ATTACH;FMTTYPE=image/jpeg:https://urbanmilwaukee.com/wp-content/uploads/2016/08/Beauty-Website1.jpg
END:VEVENT
BEGIN:VEVENT
DTSTART;TZID=America/Chicago:20170319T160000
DTEND;TZID=America/Chicago:20170319T180000
DTSTAMP:20260419T132421
CREATED:20161113T134206Z
LAST-MODIFIED:20161113T134206Z
UID:189852-1489939200-1489946400@urbanmilwaukee.com
SUMMARY:Bill & Lin O'Connor Irish\, Folk & Acoustic
DESCRIPTION:Enjoy the sounds of long time favorite Irish musicians Bill and Lin O’Connor. Classic Irish and traditional Folk songs. \n
URL:https://urbanmilwaukee.com/event/bill-lin-oconnor-irish-folk-acoustic/
CATEGORIES:Arts & Entertainment
ATTACH;FMTTYPE=image/jpeg:https://urbanmilwaukee.com/wp-content/uploads/2016/11/Dancers.jpg
END:VEVENT
END:VCALENDAR