BEGIN:VCALENDAR
VERSION:2.0
PRODID:-//Urban Milwaukee - ECPv4.6.9//NONSGML v1.0//EN
CALSCALE:GREGORIAN
METHOD:PUBLISH
X-WR-CALNAME:Urban Milwaukee
X-ORIGINAL-URL:https://urbanmilwaukee.com
X-WR-CALDESC:Events for Urban Milwaukee
BEGIN:VEVENT
DTSTART;TZID=America/Chicago:20160218T100000
DTEND;TZID=America/Chicago:20160710T170000
DTSTAMP:20260422T045236
CREATED:20160218T195333Z
LAST-MODIFIED:20160218T195333Z
UID:157552-1455789600-1468170000@urbanmilwaukee.com
SUMMARY:Spectrum: Contemporary Artists in Color at Racine Art Museum
DESCRIPTION:While many contemporary artists use color as a primary element\, Spectrum focuses on it as a defining principle\, featuring works by those in RAM’s collection\, such as Sonja Blomdahl\, Sandra Byers\, Rose Cabat\, Jeffrey Lloyd Dever\, Lindly Haunani\, Cliff Lee\, James Lovera\, and Dante Marioni. \nTuesday – Saturday 10:00 am – 5:00 pm\nSunday 12:00 – 5:00 pm\nClosed Monday\, Federal Holidays and Easter\nThe Museum Store closes at 4:45 pm each day. \n
URL:https://urbanmilwaukee.com/event/spectrum-contemporary-artists-in-color-at-racine-art-museum/
LOCATION:441 Main Street\, Racine\, WI\, 53402\, United States
CATEGORIES:Arts & Entertainment
END:VEVENT
BEGIN:VEVENT
DTSTART;TZID=America/Chicago:20160218T100000
DTEND;TZID=America/Chicago:20160501T170000
DTSTAMP:20260422T045236
CREATED:20160218T195727Z
LAST-MODIFIED:20160218T195727Z
UID:157550-1455789600-1462122000@urbanmilwaukee.com
SUMMARY:Cut\, Fold\, and Form: Featuring Kiff Slemmons and Julie VonDerVellen at Racine Art Museum
DESCRIPTION:Whether emphasizing the structural\, the conceptual\, or both\, the artists included transform paper—a familiar and seemingly mundane material—into vessels\, sculpture\, adornment\, and artist’s books. Featured artists Kiff Slemmons\, who makes ornate paper jewelry\, and Julie VonDerVellen\, who creates complex sculptural paper watches and clocks\, are represented by multiple works. Artists from RAM’s collection—such as Dominic Di Mare\, Walter Hamady\, Caren Heft\, Jim Lee\, Ke-Sook Lee\, Mary Merkel-Hess\, JoAnna Poehlmann\, Kay Sekimachi\, Merle Temkin\, and Michael Velliquette—expand the conversation. \nTuesday – Saturday 10:00 am – 5:00 pm\nSunday 12:00 – 5:00 pm\nClosed Monday\, Federal Holidays and Easter\nThe Museum Store closes at 4:45 pm each day. \n
URL:https://urbanmilwaukee.com/event/cut-fold-and-form-featuring-kiff-slemmons-and-julie-vondervellen-at-racine-art-museum/
LOCATION:441 Main Street\, Racine\, WI\, 53402\, United States
CATEGORIES:Arts & Entertainment
END:VEVENT
BEGIN:VEVENT
DTSTART;TZID=America/Chicago:20160221T120000
DTEND;TZID=America/Chicago:20160605T170000
DTSTAMP:20260422T045236
CREATED:20160218T200001Z
LAST-MODIFIED:20160218T200001Z
UID:157554-1456056000-1465146000@urbanmilwaukee.com
SUMMARY:California Dreamin': Mark Adams and Frank Lobdell at Racine Art Museum
DESCRIPTION:Mark Adams (1925-2006) and Frank Lobdell (1921-2013) explored pattern and color. Drawing on his experience building images with large planes of color\, Adams created realistic\, color-infused compositions of everyday subjects. Lobdell sought to explore humanity in broader terms––utilizing a “vocabulary of archetypal themes and abstract symbols.” Although primarily a painter\, Lobdell also produced lithographs\, etchings\, and monoprints. Both artists made their way to California where they spent the better part of their artistic careers. \nTuesday – Saturday 10:00 am – 5:00 pm\nSunday 12:00 – 5:00 pm\nClosed Monday\, Federal Holidays and Easter\nThe Museum Store closes at 4:45 pm each day. \n
URL:https://urbanmilwaukee.com/event/california-dreamin-mark-adams-and-frank-lobdell-at-racine-art-museum/
LOCATION:441 Main Street\, Racine\, WI\, 53402\, United States
CATEGORIES:Arts & Entertainment
END:VEVENT
BEGIN:VEVENT
DTSTART;TZID=America/Chicago:20160221T120000
DTEND;TZID=America/Chicago:20160605T170000
DTSTAMP:20260422T045236
CREATED:20160218T200827Z
LAST-MODIFIED:20160218T200827Z
UID:157557-1456056000-1465146000@urbanmilwaukee.com
SUMMARY:Paper/Plastic: Contemporary Adornment at Racine Art Museum
DESCRIPTION:Frequent visitors to RAM see contemporary jewelry made of a wide variety of media. Truly\, jewelry can be made of almost any material—whatever a person would want to use for adornment\, they could. Paper/Plastic reflects a variety of approaches to using nontraditional materials. Some materials may be more valuable\, durable\, or wearable than others\, but if the intent is present\, most things can be manipulated to be worn. \nTuesday – Saturday 10:00 am – 5:00 pm\nSunday 12:00 – 5:00 pm\nClosed Monday\, Federal Holidays and Easter\nThe Museum Store closes at 4:45 pm each day. \n
URL:https://urbanmilwaukee.com/event/paperplastic-contemporary-adornment-at-racine-art-museum/
LOCATION:441 Main Street\, Racine\, WI\, 53402\, United States
CATEGORIES:Arts & Entertainment
END:VEVENT
BEGIN:VEVENT
DTSTART;TZID=America/Chicago:20160308T180000
DTEND;TZID=America/Chicago:20160426T203000
DTSTAMP:20260422T045236
CREATED:20160208T161746Z
LAST-MODIFIED:20160208T161746Z
UID:155991-1457460000-1461702600@urbanmilwaukee.com
SUMMARY:Stained Glass Class
DESCRIPTION:Learn techniques such as cutting\, grinding\, foiling and soldering in the copper foil method. Supply list provided in first class. \n
URL:https://urbanmilwaukee.com/event/stained-glass-class/
LOCATION:2519 Northwestern Ave\, Racine\, WI\, 53404\, United States
CATEGORIES:Arts & Entertainment
END:VEVENT
BEGIN:VEVENT
DTSTART;TZID=America/Chicago:20160308T180000
DTEND;TZID=America/Chicago:20160412T203000
DTSTAMP:20260422T045236
CREATED:20160218T201858Z
LAST-MODIFIED:20160218T201858Z
UID:155983-1457460000-1460493000@urbanmilwaukee.com
SUMMARY:Pastels
DESCRIPTION:Join this fun and informative pastels class and learn the fundamentals of this interesting media. Explore how to control and apply pastels in a multitude of ways and use color and value effectively in your composition. \n
URL:https://urbanmilwaukee.com/event/pastels-2/
LOCATION:2519 Northwestern Ave\, Racine\, WI\, 53404\, United States
CATEGORIES:Arts & Entertainment
END:VEVENT
BEGIN:VEVENT
DTSTART;TZID=America/Chicago:20160308T180000
DTEND;TZID=America/Chicago:20160426T203000
DTSTAMP:20260422T045236
CREATED:20160218T202038Z
LAST-MODIFIED:20160218T202038Z
UID:155999-1457460000-1461702600@urbanmilwaukee.com
SUMMARY:Water Soluble Oil Painting:  Spring Floral's - 8 weeks
DESCRIPTION:Learn the basics of using water soluble oil paints while creating beautiful floral paintings. Water soluble oil paint is a versatile alternative to traditional oil paint with less fumes and easier clean up. \n
URL:https://urbanmilwaukee.com/event/water-soluble-oil-painting-spring-florals-8-weeks/
LOCATION:2519 Northwestern Ave\, Racine\, WI\, 53404\, United States
CATEGORIES:Arts & Entertainment
END:VEVENT
BEGIN:VEVENT
DTSTART;TZID=America/Chicago:20160310T180000
DTEND;TZID=America/Chicago:20160428T203000
DTSTAMP:20260422T045236
CREATED:20160218T203820Z
LAST-MODIFIED:20160218T203820Z
UID:156000-1457632800-1461875400@urbanmilwaukee.com
SUMMARY:Watercolor Demystified: Spring Themes
DESCRIPTION:Learn the basic techniques of watercolor painting\, including color mixing\, washes\, values\, and composition. Apply these core elements to the images of Midwest spring. Still life\, landscape\, and some color based abstractions will be the genres we will focus on as a way to play and learn. We will avoid the pitfall that gives watercolor an unforgiving reputation. \nBeginners on up are welcome. \n
URL:https://urbanmilwaukee.com/event/watercolor-demystified-spring-themes/
LOCATION:2519 Northwestern Ave\, Racine\, WI\, 53404\, United States
CATEGORIES:Arts & Entertainment
END:VEVENT
BEGIN:VEVENT
DTSTART;TZID=America/Chicago:20160310T180000
DTEND;TZID=America/Chicago:20160428T203000
DTSTAMP:20260422T045236
CREATED:20160218T203828Z
LAST-MODIFIED:20160218T203828Z
UID:155986-1457632800-1461875400@urbanmilwaukee.com
SUMMARY:Beyond Basic Drawing Class - 8 weeks
DESCRIPTION:Focus on developing your drawing skills through your choice of medium and subject matter in an individual studio setting. \n
URL:https://urbanmilwaukee.com/event/beyond-basic-drawing-class-8-weeks/
LOCATION:2519 Northwestern Ave\, Racine\, WI\, 53404\, United States
CATEGORIES:Arts & Entertainment
END:VEVENT
BEGIN:VEVENT
DTSTART;TZID=America/Chicago:20160322T180000
DTEND;TZID=America/Chicago:20160412T203000
DTSTAMP:20260422T045236
CREATED:20160218T203617Z
LAST-MODIFIED:20160218T203617Z
UID:155985-1458669600-1460493000@urbanmilwaukee.com
SUMMARY:Drawing from Casts
DESCRIPTION:Explore this time-honored tradition of drawing used by the masters. Learn to draw from plaster casts\, focusing on the face and other body parts. Light\, proportion and shading will be addressed. Great for beginning students or those who wish to sharpen their skills. \n
URL:https://urbanmilwaukee.com/event/drawing-from-casts/
LOCATION:2519 Northwestern Ave\, Racine\, WI\, 53404\, United States
CATEGORIES:Arts & Entertainment
END:VEVENT
BEGIN:VEVENT
DTSTART;TZID=America/Chicago:20160402T090000
DTEND;TZID=America/Chicago:20160402T120000
DTSTAMP:20260422T045236
CREATED:20160218T204548Z
LAST-MODIFIED:20160218T204548Z
UID:156526-1459587600-1459598400@urbanmilwaukee.com
SUMMARY:Fly the Flag!  Ages 7-13
DESCRIPTION:Create a 12″ x 18″ banner with fabric crayons\, wax and dye. Design with spring\, summer or nature themes. \nPlease bring a snack.\n$24 Members $30 Non-Members \n
URL:https://urbanmilwaukee.com/event/fly-the-flag-ages-7-13/
LOCATION:2519 Northwestern Ave\, Racine\, WI\, 53404\, United States
CATEGORIES:Arts & Entertainment
END:VEVENT
BEGIN:VEVENT
DTSTART;TZID=America/Chicago:20160402T090000
DTEND;TZID=America/Chicago:20160402T111500
DTSTAMP:20260422T045236
CREATED:20160218T204615Z
LAST-MODIFIED:20160218T204615Z
UID:157342-1459587600-1459595700@urbanmilwaukee.com
SUMMARY:Jewels of the Church
DESCRIPTION:Sister Mary Carroll\, SSSF\, offers presentations and reflections on four holy women in this two-part series. Learn how the spirituality of these Doctors of the Church can make a difference today. Part one on April 2 focuses on Saints Hildegard of Bingen and Catherine of Siena. Part two on April 16 will spotlight Saints Theresa of Avila and Therese of Lisieux. \nSeries fee: $25. Please contact Donna O’Loughlin at 414-385-5272 or doloughlin@sssf.org to purchase tickets. \n
URL:https://urbanmilwaukee.com/event/jewels-of-the-church/
LOCATION:1501 S. Layton Blvd.\, Milwaukee\, WI\, 53215\, United States
CATEGORIES:Arts & Entertainment
ATTACH;FMTTYPE=image/jpeg:https://urbanmilwaukee.com/wp-content/uploads/2016/02/Jewels-of-the-Church.jpg
END:VEVENT
BEGIN:VEVENT
DTSTART;TZID=America/Chicago:20160402T100000
DTEND;TZID=America/Chicago:20160402T160000
DTSTAMP:20260422T045236
CREATED:20160218T204558Z
LAST-MODIFIED:20160218T204558Z
UID:155975-1459591200-1459612800@urbanmilwaukee.com
SUMMARY:Fused Chain Making Workshop
DESCRIPTION:Learn a variety of chain making techniques and styles while you practice fusing skills. Create jump rings and linked chains with copper\, brass\, and sterling silver. Walk away with beautiful wearable art and the knowledge needed to create different and unique chains at home. \nPlease bring a bag lunch. \n$15 supply fee included \n
URL:https://urbanmilwaukee.com/event/fused-chain-making-workshop/
LOCATION:2519 Northwestern Ave\, Racine\, WI\, 53404\, United States
CATEGORIES:Arts & Entertainment
END:VEVENT
BEGIN:VEVENT
DTSTART;TZID=America/Chicago:20160402T110000
DTEND;TZID=America/Chicago:20160402T114500
DTSTAMP:20260422T045236
CREATED:20160218T204533Z
LAST-MODIFIED:20160218T204533Z
UID:154180-1459594800-1459597500@urbanmilwaukee.com
SUMMARY:Milwaukee's Monthly Family Magic Show
DESCRIPTION:The First Saturday of Every Month\nOnly $5 (All Ages)\nhttp://twobrothersonemind.ticketleap.com/milwaukeemonthlymagic/ \nFeaturing Performances By\nDan Pollack\nJeff & Chad Orr\nTwo Brothers One Mind \nBest Western Plus (Milwaukee Airport)\n5105 S. Howell Ave.\, Milwaukee\, WI 53207\nShow Begins at 11:00am \nMILWAUKEE JOURNAL SENTINEL FULL PAGE ARTICLE: http://www.jsonline.com/greensheet/brother-magician-team-brings-comedy-and-telepathy-to-milwaukee-b99615652z1-358306201.html \nFOX 6 WAKE UP NEWS APPEARANCE: http://fox6now.com/2015/11/04/telepathic-entertainers-two-brothers-one-mind-show-off-their-skills/ \nKTI COUNTRY / JAKE & TANNER SHOW INTERVIEW: http://www.wtmj.com/kticountry/kti-shows/kti-morning-show/two-brothers-one-mind-stump-jake-tanner \n#MagicMKE #TBOM #TwoBrothersOneMind #Comedy #Magic #Milwaukee \n
URL:https://urbanmilwaukee.com/event/milwaukees-monthly-family-magic-show-4/
LOCATION:5105 S. Howell Ave.\, Milwaukee\, WI\, 53207\, United States
CATEGORIES:Arts & Entertainment
ATTACH;FMTTYPE=image/jpeg:https://urbanmilwaukee.com/wp-content/uploads/2016/01/FamilyPoster3.jpg
END:VEVENT
BEGIN:VEVENT
DTSTART;TZID=America/Chicago:20160402T130000
DTEND;TZID=America/Chicago:20160402T160000
DTSTAMP:20260422T045236
CREATED:20160218T204504Z
LAST-MODIFIED:20160218T204504Z
UID:156474-1459602000-1459612800@urbanmilwaukee.com
SUMMARY:Drawing Your Beloved Pet Workshop
DESCRIPTION:An introduction to basic concepts of how to draw your pet’s portrait. Draw your beloved dog\, cat\, Guinea pig\, fish\, turtle\, lizard or bird. Any and all creatures can be rendered with style\, love\, and panache. \nWork with this father-daughter team of art professors who find a special place for animals in their own lives. Discover how to render an animal’s portrait by learning basic facial proportions and different ways of drawing texture. Have fun together while finding joy in drawing our creatures. \nStudents need to bring a few 4 x 6 inch or larger photographs of their animal’s face\, at least one photograph in profile is necessary. \n
URL:https://urbanmilwaukee.com/event/drawing-your-beloved-pet-workshop/
LOCATION:2519 Northwestern Ave\, Racine\, WI\, 53404\, United States
CATEGORIES:Arts & Entertainment
END:VEVENT
BEGIN:VEVENT
DTSTART;TZID=America/Chicago:20160402T130000
DTEND;TZID=America/Chicago:20160402T160000
DTSTAMP:20260422T045236
CREATED:20160218T204516Z
LAST-MODIFIED:20160218T204516Z
UID:156527-1459602000-1459612800@urbanmilwaukee.com
SUMMARY:Nature Journals  Ages 7-13
DESCRIPTION:Create your own nature journal for capturing flora and fauna of all kinds. \nPlease bring a snack.\n$24 Members $30 Non-Members \n
URL:https://urbanmilwaukee.com/event/nature-journals-ages-7-13/
LOCATION:2519 Northwestern Ave\, Racine\, WI\, 53404\, United States
CATEGORIES:Arts & Entertainment
END:VEVENT
END:VCALENDAR