BEGIN:VCALENDAR
VERSION:2.0
PRODID:-//Urban Milwaukee - ECPv4.6.9//NONSGML v1.0//EN
CALSCALE:GREGORIAN
METHOD:PUBLISH
X-WR-CALNAME:Urban Milwaukee
X-ORIGINAL-URL:https://urbanmilwaukee.com
X-WR-CALDESC:Events for Urban Milwaukee
BEGIN:VEVENT
DTSTART;TZID=America/Chicago:20160206T100000
DTEND;TZID=America/Chicago:20160327T170000
DTSTAMP:20260424T183051
CREATED:20160122T143414Z
LAST-MODIFIED:20160122T143414Z
UID:149460-1454752800-1459098000@urbanmilwaukee.com
SUMMARY:Wisconsin Visual Artists Biennial
DESCRIPTION:The Wisconsin Artists Biennial is a cooperative venture between MOWA and the oldest artist organization in the State\, Wisconsin Visual Artists\, Inc. This exhibition was established decades ago and provides artists with the opportunity to showcase their artwork at the finest venue in the state dedicated to Wisconsin art. Open to any artist\, the Biennial is a prestigious juried exhibition that attracts entries from artists throughout the state. \n
URL:https://urbanmilwaukee.com/event/wisconsin-visual-artists-biennial/
LOCATION:205 Veterans Ave.\, West Bend\, WI\, 53095\, United States
CATEGORIES:Arts & Entertainment
ATTACH;FMTTYPE=image/jpeg:https://urbanmilwaukee.com/wp-content/uploads/2015/12/AlexHopkins_TheFifer_web.jpg
END:VEVENT
BEGIN:VEVENT
DTSTART;TZID=America/Chicago:20160218T100000
DTEND;TZID=America/Chicago:20160710T170000
DTSTAMP:20260424T183051
CREATED:20160218T195333Z
LAST-MODIFIED:20160218T195333Z
UID:157552-1455789600-1468170000@urbanmilwaukee.com
SUMMARY:Spectrum: Contemporary Artists in Color at Racine Art Museum
DESCRIPTION:While many contemporary artists use color as a primary element\, Spectrum focuses on it as a defining principle\, featuring works by those in RAM’s collection\, such as Sonja Blomdahl\, Sandra Byers\, Rose Cabat\, Jeffrey Lloyd Dever\, Lindly Haunani\, Cliff Lee\, James Lovera\, and Dante Marioni. \nTuesday – Saturday 10:00 am – 5:00 pm\nSunday 12:00 – 5:00 pm\nClosed Monday\, Federal Holidays and Easter\nThe Museum Store closes at 4:45 pm each day. \n
URL:https://urbanmilwaukee.com/event/spectrum-contemporary-artists-in-color-at-racine-art-museum/
LOCATION:441 Main Street\, Racine\, WI\, 53402\, United States
CATEGORIES:Arts & Entertainment
END:VEVENT
BEGIN:VEVENT
DTSTART;TZID=America/Chicago:20160218T100000
DTEND;TZID=America/Chicago:20160501T170000
DTSTAMP:20260424T183051
CREATED:20160218T195727Z
LAST-MODIFIED:20160218T195727Z
UID:157550-1455789600-1462122000@urbanmilwaukee.com
SUMMARY:Cut\, Fold\, and Form: Featuring Kiff Slemmons and Julie VonDerVellen at Racine Art Museum
DESCRIPTION:Whether emphasizing the structural\, the conceptual\, or both\, the artists included transform paper—a familiar and seemingly mundane material—into vessels\, sculpture\, adornment\, and artist’s books. Featured artists Kiff Slemmons\, who makes ornate paper jewelry\, and Julie VonDerVellen\, who creates complex sculptural paper watches and clocks\, are represented by multiple works. Artists from RAM’s collection—such as Dominic Di Mare\, Walter Hamady\, Caren Heft\, Jim Lee\, Ke-Sook Lee\, Mary Merkel-Hess\, JoAnna Poehlmann\, Kay Sekimachi\, Merle Temkin\, and Michael Velliquette—expand the conversation. \nTuesday – Saturday 10:00 am – 5:00 pm\nSunday 12:00 – 5:00 pm\nClosed Monday\, Federal Holidays and Easter\nThe Museum Store closes at 4:45 pm each day. \n
URL:https://urbanmilwaukee.com/event/cut-fold-and-form-featuring-kiff-slemmons-and-julie-vondervellen-at-racine-art-museum/
LOCATION:441 Main Street\, Racine\, WI\, 53402\, United States
CATEGORIES:Arts & Entertainment
END:VEVENT
BEGIN:VEVENT
DTSTART;TZID=America/Chicago:20160218T100000
DTEND;TZID=America/Chicago:20160306T160000
DTSTAMP:20260424T183051
CREATED:20160218T195747Z
LAST-MODIFIED:20160218T195747Z
UID:157558-1455789600-1457280000@urbanmilwaukee.com
SUMMARY:Call for Artists: RAM 7th Annual International  PEEPS Art Competition at Racine Art Museum
DESCRIPTION:Entry Deadline: Sunday\, March 6 at 4:00 pm\nArtists of all ages are invited to be part of the only museum competition of this kind in the world. Entry is FREE\, and open to all individuals\, families\, and organizations. \nAgain this year\, all entries will be judged by an expert panel\, based on creativity and best use or representation of PEEPS®. Prizes will be awarded in a variety of categories. In addition\, one lucky artist will take home the coveted PEEPles Choice Award after the community votes for their favorite creation. \nNew in 2016: Live over 100 miles away? Send us a standard postcard with a PEEPS image on the picture side\, and RAM will display your entry. Postcards must be 4 inches high x 6 inches wide\, and will not be returned. No entry form needed for postcard entries as they will not be labeled individually. \nTuesday – Saturday 10:00 am – 5:00 pm\nSunday 12:00 – 5:00 pm\nClosed Monday\, Federal Holidays and Easter\nThe Museum Store closes at 4:45 pm each day. \n
URL:https://urbanmilwaukee.com/event/call-for-artists-ram-7th-annual-international-peeps-art-competition-at-racine-art-museum/
LOCATION:441 Main Street\, Racine\, WI\, 53402\, United States
CATEGORIES:Arts & Entertainment
END:VEVENT
BEGIN:VEVENT
DTSTART;TZID=America/Chicago:20160218T193000
DTEND;TZID=America/Chicago:20160220T193000
DTSTAMP:20260424T183051
CREATED:20151125T183758Z
LAST-MODIFIED:20151130T170107Z
UID:146134-1455823800-1455996600@urbanmilwaukee.com
SUMMARY:What's Going On: The Marvin Gaye Experience
DESCRIPTION:What’s Going On: The Marvin Gaye Experience invites audiences to celebrate the hits of the legendary Marvin Gaye. Brian Owens performs selections that span Gaye’s music-making career. Early solo hits like “Can I Get a Witness” and “I Heard It Through the Grapevine” share space with “You’re All I Need to Get By” and other classic duets. No Marvin Gaye song list would be complete without classics like “Let’s Get It On” or “Got To Give It Up.” \nAt its heart\, Brian Owens’ Marvin Gaye Experience is about preservation and upholding the tradition of true soul music. The show prominently features a suite of pieces from Gaye’s “What’s Going On” album\, which Brian counts as one of the most socially important artistic works in the history of American music. In light of recent events in and around Ferguson Missouri where he resides\, Brian says the show also speaks to a heightened sense of urgency and the prophetic beauty of Gaye’s 1971 work. \n
URL:https://urbanmilwaukee.com/event/whats-going-on-the-marvin-gaye-experience/
LOCATION:929 N. Water St.\, Milwaukee\, WI\, 53202\, United States
CATEGORIES:Arts & Entertainment
END:VEVENT
BEGIN:VEVENT
DTSTART;TZID=America/Chicago:20160220T100000
DTEND;TZID=America/Chicago:20160228T173000
DTSTAMP:20260424T183051
CREATED:20160218T200412Z
LAST-MODIFIED:20160218T200412Z
UID:155830-1455962400-1456680600@urbanmilwaukee.com
SUMMARY:Drive FCA! at the 2016 The Greater Milwaukee Auto Show
DESCRIPTION:Drive FCA! at the 2016 The Greater Milwaukee Auto Show\, for unique fun with the Chrysler\, Dodge\, Jeep®\, Ram Truck\, and FIAT brands! Enter the 2016 $45\,000 National Sweepstakes for a chance to win an FCA US vehicle from any one of the Chrysler\, Dodge\, Jeep\, Ram Truck\, FIAT or Alfa Romeo brands. \nDrive FCA! – Register & Drive at the Ballroom Lobby (Street Level) at the Wisconsin Center\, to test drive the latest from Fiat Chrysler Automobiles US including the all-new 2015 Jeep Renegade\, a small sport-utility vehicle that offers a unique combination of best-in-class off-road capability\, open air freedom and a segment-first nine-speed automatic transmission that contributes to outstanding driving dynamics on and off-road\, as well as two fuel-efficient engines\, and innovative safety and technology. Available vehicles include: Chrysler 200\, Chrysler 300\, Chrysler Town & Country\, Jeep Cherokee\, Jeep Grand Cherokee\, Jeep Renegade\, Dodge Challenger\, Dodge Dart\, Dodge Durango\, Ram 1500\, Fiat F00 & Fiat 500X. \nDrive FCA! Hours of Operation:\nSaturday\, February 20\, 2016 10:00 AM to 5:30 PM\nSunday\, February 21\, 2016 10:00 AM to 5:30 PM\nFriday\, February 26\, 2016 1:00 PM to 5:30 PM\nSaturday\, February 27\, 2016 10:00 AM to 5:30 PM\nSunday\, February 28\, 2016 10:00 AM to 5:30 PM \nFor product information and more visit www.FCANorthAmerica.com. \n
URL:https://urbanmilwaukee.com/event/drive-fca-at-the-2016-the-greater-milwaukee-auto-show/
LOCATION:400 West Wisconsin Ave\, Milwaukee\, WI\, 53203\, United States
ATTACH;FMTTYPE=image/png:https://urbanmilwaukee.com/wp-content/uploads/2016/02/Drive-FCA.png
END:VEVENT
BEGIN:VEVENT
DTSTART;TZID=America/Chicago:20160220T130000
DTEND;TZID=America/Chicago:20160220T140000
DTSTAMP:20260424T183051
CREATED:20160122T144537Z
LAST-MODIFIED:20160122T144537Z
UID:151089-1455973200-1455976800@urbanmilwaukee.com
SUMMARY:Coffeeshop Astrophysics
DESCRIPTION:COFFEESHOP ASTROPHYSICS \nSat Feb 20 2016 1pm @ 224 W Bruce St. \nThese are a series of informal public lectures aimed at anyone interested in getting a taste of modern science\, all from the comfort of your local coffee shop. Members of the Leonard E Parker Center for Cosomology\, Gravitational and Astrophysics will guide you through the interesting\, unusual\, and sometimes bizarre concepts that guide the modern understanding of our universe. At the end of each lecture\, we hope to have rekindled or ignited a passion for astrophysics!\nLectures will begin at 1 pm on the Saturdays specified in the schedule. \nPlease explore our website to find out more about CoffeeShop Astrophysics. Check our schedule for details about lecture topics\, dates\, the location of this lecture series\, and who we are. If you have any questions\, please do not hesitate to contact us! Looking forward to meeting and discussing science with you. \n
URL:https://urbanmilwaukee.com/event/coffeeshop-astrophysics/
LOCATION:224 W. Bruce St.\, Milwaukee\, WI\, 53204\, United States
CATEGORIES:Arts & Entertainment
END:VEVENT
BEGIN:VEVENT
DTSTART;TZID=America/Chicago:20160220T200000
DTEND;TZID=America/Chicago:20160220T230000
DTSTAMP:20260424T183051
CREATED:20160122T140441Z
LAST-MODIFIED:20160122T140441Z
UID:151086-1455998400-1456009200@urbanmilwaukee.com
SUMMARY:Paul Cebar Tomorrow Sound
DESCRIPTION:PAUL CEBAR TOMORROW SOUND \nSat Feb 20 2016 8:00 pm @ 224 W. Bruce Street Milwaukee $10adv/$12door \nPaul Cebar Tomorrow Sound bring forth a funky\, lyrically charged racket that is explosive\, yet intimate.\nTaking cues from the dance bands of western Louisiana (and his native Midwest\,)\, the streets (and 45’s) of New Orleans\, touring African and Caribbean combos and the soul\, funk & blues of his youth\, Paul Cebar is a masterful synthesist of rhythmic culture. His time spent in his second home of New Orleans\, as a musicologist in Florida\, and as a journeyman wanderer in Cuba\, is reflected in his musical worldview. \nAt the core is gifted songwriting\, and the company Paul keeps bears it out: Bonnie Raitt\, Nick Lowe\, Chris Smither\, John Hiatt and Cesar Rosas are among his friends and admirers. \nTomorrow Sound are an elite crew. Drummer Reggie Bordeaux\, New Orleans native percussionist Mac Perkins\, and bassist Mike Fredrickson\, throw down some of the best dance grooves in the business. Multi-instrumentalist Bob Jennings adds the luxury of implying a much larger ensemble with his multi-hued contributions on keys and reeds. \nPaul Cebar Tomorrow Sound’s latest album is “Fine Rude Thing” . The songs “Baby Shake” and “You Owe it to Me” feature Cebar’s unique mixture of R&B\, Caribbean and New Orleans style. \nhttp://www.paulcebar.com/\nhttps://anodynecoffee.com/shop/product-category/events/ \n
URL:https://urbanmilwaukee.com/event/paul-cebar-tomorrow-sound/
LOCATION:224 W. Bruce St.\, Milwaukee\, WI\, 53204\, United States
CATEGORIES:Arts & Entertainment
END:VEVENT
END:VCALENDAR