BEGIN:VCALENDAR
VERSION:2.0
PRODID:-//Urban Milwaukee - ECPv4.6.9//NONSGML v1.0//EN
CALSCALE:GREGORIAN
METHOD:PUBLISH
X-WR-CALNAME:Urban Milwaukee
X-ORIGINAL-URL:https://urbanmilwaukee.com
X-WR-CALDESC:Events for Urban Milwaukee
BEGIN:VEVENT
DTSTART;TZID=America/Chicago:20160112T180000
DTEND;TZID=America/Chicago:20160216T203000
DTSTAMP:20260425T010247
CREATED:20151202T182911Z
LAST-MODIFIED:20151202T182911Z
UID:147705-1452621600-1455654600@urbanmilwaukee.com
SUMMARY:Pastels
DESCRIPTION:Join this fun and informative pastels class and learn the fundamentals of this interesting media. Using color and value effectively in your composition\, focusing on how to control and apply pastels in a multitude of ways will be explored. \nOnline registration closes three days before class begins.\nClasses are held at RAM’s Wustum Museum\, 2519 Northwestern Avenue\, Racine.\n6 week class \n
URL:https://urbanmilwaukee.com/event/pastels/
CATEGORIES:Arts & Entertainment
END:VEVENT
BEGIN:VEVENT
DTSTART;TZID=America/Chicago:20160114T180000
DTEND;TZID=America/Chicago:20160218T203000
DTSTAMP:20260425T010247
CREATED:20151202T182359Z
LAST-MODIFIED:20151202T182359Z
UID:147691-1452794400-1455827400@urbanmilwaukee.com
SUMMARY:Handbuilt Ceramics
DESCRIPTION:Explore the ancient and primal art of forming clay into sculptural and functional work using your hands and only a few basic tools. Experience the primal forces of earth\, wind\, water\, and fire. Great for anyone looking to get dirty and have fun doing it! Raku firing process will be included. All materials included in class fee. Beginners and intermediates welcome! \nOnline registration closes three days before class begins.\nClass is held at RAM’s Wustum Museum\, 2519 Northwestern Avenue\, Racine. \n6 week class \n
URL:https://urbanmilwaukee.com/event/handbuilt-ceramics/
CATEGORIES:Arts & Entertainment
END:VEVENT
BEGIN:VEVENT
DTSTART;TZID=America/Chicago:20160114T180000
DTEND;TZID=America/Chicago:20160218T203000
DTSTAMP:20260425T010247
CREATED:20151203T201254Z
LAST-MODIFIED:20151203T201254Z
UID:147759-1452794400-1455827400@urbanmilwaukee.com
SUMMARY:Watercolor Demystified
DESCRIPTION:Learn and apply fundamentals and advanced techniques in watercolor working on the subject or object of your choice. Beginners and returning students welcome. \nOnline registration closes three days before class begins.\nClass is held at RAM’s Wustum Museum\, 2519 Northwestern Avenue\, Racine. \n6 Week Class \n
URL:https://urbanmilwaukee.com/event/watercolor-demystified/
CATEGORIES:Arts & Entertainment
END:VEVENT
BEGIN:VEVENT
DTSTART;TZID=America/Chicago:20160126T180000
DTEND;TZID=America/Chicago:20160216T203000
DTSTAMP:20260425T010247
CREATED:20151203T201915Z
LAST-MODIFIED:20151203T201915Z
UID:147761-1453831200-1455654600@urbanmilwaukee.com
SUMMARY:Water Soluble Oil Painting
DESCRIPTION:Create interesting compositions in still-life paintings while exploring a new medium. Water soluble oil paint is a versatile alternative to traditional oil paint with less fumes and easier clean up. \nOnline registration closes three days before class begins.\nClass is held at RAM’s Wustum Museum\, 2519 Northwestern Avenue\, Racine.\n4 Week Class \n
URL:https://urbanmilwaukee.com/event/water-soluble-oil-painting/
CATEGORIES:Arts & Entertainment
END:VEVENT
BEGIN:VEVENT
DTSTART;TZID=America/Chicago:20160128T180000
DTEND;TZID=America/Chicago:20160218T203000
DTSTAMP:20260425T010247
CREATED:20151203T203123Z
LAST-MODIFIED:20151203T203123Z
UID:147730-1454004000-1455827400@urbanmilwaukee.com
SUMMARY:Drawing Basics
DESCRIPTION:Seeing is the key to great drawing. Working through observation\, learn drawing techniques while exploring a multitude of materials and gain valuable drawing skills. No drawing experience required. \nOnline registration closes three days before class begins. \nClasses are held at RAM’s Wustum Museum\, 2519 Northwestern Avenue\, Racine.\n4 Week Class \n
URL:https://urbanmilwaukee.com/event/drawing-basics/
CATEGORIES:Arts & Entertainment
END:VEVENT
BEGIN:VEVENT
DTSTART;TZID=America/Chicago:20160206T100000
DTEND;TZID=America/Chicago:20160327T170000
DTSTAMP:20260425T010247
CREATED:20160122T143414Z
LAST-MODIFIED:20160122T143414Z
UID:149460-1454752800-1459098000@urbanmilwaukee.com
SUMMARY:Wisconsin Visual Artists Biennial
DESCRIPTION:The Wisconsin Artists Biennial is a cooperative venture between MOWA and the oldest artist organization in the State\, Wisconsin Visual Artists\, Inc. This exhibition was established decades ago and provides artists with the opportunity to showcase their artwork at the finest venue in the state dedicated to Wisconsin art. Open to any artist\, the Biennial is a prestigious juried exhibition that attracts entries from artists throughout the state. \n
URL:https://urbanmilwaukee.com/event/wisconsin-visual-artists-biennial/
LOCATION:205 Veterans Ave.\, West Bend\, WI\, 53095\, United States
CATEGORIES:Arts & Entertainment
ATTACH;FMTTYPE=image/jpeg:https://urbanmilwaukee.com/wp-content/uploads/2015/12/AlexHopkins_TheFifer_web.jpg
END:VEVENT
BEGIN:VEVENT
DTSTART;TZID=America/Chicago:20160211T140000
DTEND;TZID=America/Chicago:20160218T180000
DTSTAMP:20260425T010247
CREATED:20160208T191450Z
LAST-MODIFIED:20160208T191450Z
UID:156102-1455199200-1455818400@urbanmilwaukee.com
SUMMARY:Dough Play by David Robbins
DESCRIPTION:Reception: Feb 11\, 2 – 6pm\nExhibition: through Feb 19\, 2016 \nDough Play\, a crowdfunded comedy in three currencies on three continents. \nOpening simultaneously at Le Confort-Moderne\, Potiers\, France\, Misako Rosen Gallery\, Tokyo\, and The Green Gallery East\, Milwaukee. \n
URL:https://urbanmilwaukee.com/event/dough-play-by-david-robbins/
LOCATION:1500 N. Farwell Ave. \, Milwaukee\, WI\, 53202\, United States
CATEGORIES:Arts & Entertainment
ATTACH;FMTTYPE=image/jpeg:https://urbanmilwaukee.com/wp-content/uploads/2016/02/DR1.jpg
END:VEVENT
BEGIN:VEVENT
DTSTART;TZID=America/Chicago:20160216T190000
DTEND;TZID=America/Chicago:20160216T213000
DTSTAMP:20260425T010248
CREATED:20160218T194413Z
LAST-MODIFIED:20160218T194413Z
UID:156270-1455649200-1455658200@urbanmilwaukee.com
SUMMARY:19th Annual Festival of Films in French
DESCRIPTION:Verdun: Visions d’histoire \nTuesday February 16 • 7pm \nLéon Poirier\, DVD\, 151 min\, France\, 1927 (Silent) \nVerdun visions\nThis screening of Poirier’s epic silent film coincides almost exactly with the hundredth anniversary of the start of this horrendous World War I battle. Filming began on the tenth anniversary of Verdun using many war veterans as actors (including Marshall Pétain who plays himself!) and combining documentary footage with meticulously staged reenactments. Its pacifist message is delivered through a realistic chronicling of the terrible human toll taken by ten long months of fighting. With musical accompaniment by Renato Umali. \nCo-sponsored by the Alliance Française of Milwaukee. \n
URL:https://urbanmilwaukee.com/event/19th-annual-festival-of-films-in-french-8/
LOCATION:2200 E. Kenwood Blvd.\, Milwaukee\, WI\, 53211\, United States
CATEGORIES:Arts & Entertainment
END:VEVENT
END:VCALENDAR