BEGIN:VCALENDAR
VERSION:2.0
PRODID:-//Urban Milwaukee - ECPv4.6.9//NONSGML v1.0//EN
CALSCALE:GREGORIAN
METHOD:PUBLISH
X-WR-CALNAME:Urban Milwaukee
X-ORIGINAL-URL:https://urbanmilwaukee.com
X-WR-CALDESC:Events for Urban Milwaukee
BEGIN:VEVENT
DTSTART;TZID=America/Chicago:20160112T180000
DTEND;TZID=America/Chicago:20160216T203000
DTSTAMP:20260425T192002
CREATED:20151202T182911Z
LAST-MODIFIED:20151202T182911Z
UID:147705-1452621600-1455654600@urbanmilwaukee.com
SUMMARY:Pastels
DESCRIPTION:Join this fun and informative pastels class and learn the fundamentals of this interesting media. Using color and value effectively in your composition\, focusing on how to control and apply pastels in a multitude of ways will be explored. \nOnline registration closes three days before class begins.\nClasses are held at RAM’s Wustum Museum\, 2519 Northwestern Avenue\, Racine.\n6 week class \n
URL:https://urbanmilwaukee.com/event/pastels/
CATEGORIES:Arts & Entertainment
END:VEVENT
BEGIN:VEVENT
DTSTART;TZID=America/Chicago:20160114T180000
DTEND;TZID=America/Chicago:20160218T203000
DTSTAMP:20260425T192002
CREATED:20151202T182359Z
LAST-MODIFIED:20151202T182359Z
UID:147691-1452794400-1455827400@urbanmilwaukee.com
SUMMARY:Handbuilt Ceramics
DESCRIPTION:Explore the ancient and primal art of forming clay into sculptural and functional work using your hands and only a few basic tools. Experience the primal forces of earth\, wind\, water\, and fire. Great for anyone looking to get dirty and have fun doing it! Raku firing process will be included. All materials included in class fee. Beginners and intermediates welcome! \nOnline registration closes three days before class begins.\nClass is held at RAM’s Wustum Museum\, 2519 Northwestern Avenue\, Racine. \n6 week class \n
URL:https://urbanmilwaukee.com/event/handbuilt-ceramics/
CATEGORIES:Arts & Entertainment
END:VEVENT
BEGIN:VEVENT
DTSTART;TZID=America/Chicago:20160114T180000
DTEND;TZID=America/Chicago:20160218T203000
DTSTAMP:20260425T192002
CREATED:20151203T201254Z
LAST-MODIFIED:20151203T201254Z
UID:147759-1452794400-1455827400@urbanmilwaukee.com
SUMMARY:Watercolor Demystified
DESCRIPTION:Learn and apply fundamentals and advanced techniques in watercolor working on the subject or object of your choice. Beginners and returning students welcome. \nOnline registration closes three days before class begins.\nClass is held at RAM’s Wustum Museum\, 2519 Northwestern Avenue\, Racine. \n6 Week Class \n
URL:https://urbanmilwaukee.com/event/watercolor-demystified/
CATEGORIES:Arts & Entertainment
END:VEVENT
BEGIN:VEVENT
DTSTART;TZID=America/Chicago:20160115T194000
DTEND;TZID=America/Chicago:20160206T180000
DTSTAMP:20260425T192002
CREATED:20160120T151246Z
LAST-MODIFIED:20160120T151246Z
UID:152619-1452886800-1454781600@urbanmilwaukee.com
SUMMARY:Tom Bamberger - Civil Twilight
DESCRIPTION:Civil Twilight\nTom Bamberger \nReception: 4:42-7pm Friday\, January 15\, 2016\nExhibition: January 15 – February 6\, 2016 \nopen Wed – Saturday 2-6pm \nThe Green Gallery East\n1500 N Farwell Ave\nMilwaukee WI\, 53202 \n
URL:https://urbanmilwaukee.com/event/tom-bamberger-civil-twilight/
LOCATION:1500 N. Farwell Ave. \, Milwaukee\, WI\, 53202\, United States
CATEGORIES:Arts & Entertainment
ATTACH;FMTTYPE=image/jpeg:https://urbanmilwaukee.com/wp-content/uploads/2016/01/Civil-Twilight.jpg
END:VEVENT
BEGIN:VEVENT
DTSTART;TZID=America/Chicago:20160116T090000
DTEND;TZID=America/Chicago:20160206T103000
DTSTAMP:20260425T192002
CREATED:20151203T201236Z
LAST-MODIFIED:20151203T201236Z
UID:147776-1452934800-1454754600@urbanmilwaukee.com
SUMMARY:Chill Out: Ages 7-9
DESCRIPTION:Explore the cool color palette using multimedia approach! Creating a cool castle\, a winter forest\, an Ice Age and more…. \nOnline registration closes three days before the class begins.\nClasses are held at RAM’s Wustum Museum\, 2519 Northwestern Avenue\, Racine.\n4 Week Class \n
URL:https://urbanmilwaukee.com/event/chill-out-ages-7-9/
CATEGORIES:Arts & Entertainment
END:VEVENT
BEGIN:VEVENT
DTSTART;TZID=America/Chicago:20160116T090000
DTEND;TZID=America/Chicago:20160206T103000
DTSTAMP:20260425T192002
CREATED:20151203T201406Z
LAST-MODIFIED:20151203T201819Z
UID:147786-1452934800-1454754600@urbanmilwaukee.com
SUMMARY:Filtered: Ages 10 - 13
DESCRIPTION:Learn image manipulating techniques and apply a “filter” to an image by overpainting original drawings. Explore a variety of art movements (impressionism\, surrealism\, cubism\, etc.) and new modern social media and Photoshop image filters and see how the image can change under a new lens. \nOnline registration closes three days before the class begins.\nClasses are held at RAM’s Wustum Museum\, 2519 Northwestern Avenue\, Racine.\n4 Week Class \n
URL:https://urbanmilwaukee.com/event/filtered-ages-10-13/
CATEGORIES:Arts & Entertainment
END:VEVENT
BEGIN:VEVENT
DTSTART;TZID=America/Chicago:20160116T110000
DTEND;TZID=America/Chicago:20160206T123000
DTSTAMP:20260425T192002
CREATED:20151203T201335Z
LAST-MODIFIED:20151203T201829Z
UID:147792-1452942000-1454761800@urbanmilwaukee.com
SUMMARY:Fantasy Landscapes: Ages 4-6
DESCRIPTION:Let’s pretend! Using our greatest tool\, our imagination\, create fantasy landscapes of different designs. \nOnline registration closes three days before the class begins.\nClasses are held at RAM’s Wustum Museum\, 2519 Northwestern Avenue\, Racine.\n4 Week Class \n
URL:https://urbanmilwaukee.com/event/fantasy-landscapes-ages-4-6/
CATEGORIES:Arts & Entertainment
END:VEVENT
BEGIN:VEVENT
DTSTART;TZID=America/Chicago:20160116T110000
DTEND;TZID=America/Chicago:20160206T123000
DTSTAMP:20260425T192002
CREATED:20151203T201437Z
LAST-MODIFIED:20151203T201437Z
UID:147795-1452942000-1454761800@urbanmilwaukee.com
SUMMARY:Let's Face It: Ages 10-13
DESCRIPTION:Learn how to draw the face\, discovering proportion\, expression and point of view. Each week use a different media including pencil\, charcoal\, chalk and cray-pas. \nOnline registration closes three days before the class begins.\nClasses are held at RAM’s Wustum Museum\, 2519 Northwestern Avenue\, Racine.\n4 Week Class \n
URL:https://urbanmilwaukee.com/event/lets-face-it-ages-10-13/
CATEGORIES:Arts & Entertainment
END:VEVENT
BEGIN:VEVENT
DTSTART;TZID=America/Chicago:20160126T180000
DTEND;TZID=America/Chicago:20160216T203000
DTSTAMP:20260425T192002
CREATED:20151203T201915Z
LAST-MODIFIED:20151203T201915Z
UID:147761-1453831200-1455654600@urbanmilwaukee.com
SUMMARY:Water Soluble Oil Painting
DESCRIPTION:Create interesting compositions in still-life paintings while exploring a new medium. Water soluble oil paint is a versatile alternative to traditional oil paint with less fumes and easier clean up. \nOnline registration closes three days before class begins.\nClass is held at RAM’s Wustum Museum\, 2519 Northwestern Avenue\, Racine.\n4 Week Class \n
URL:https://urbanmilwaukee.com/event/water-soluble-oil-painting/
CATEGORIES:Arts & Entertainment
END:VEVENT
BEGIN:VEVENT
DTSTART;TZID=America/Chicago:20160128T180000
DTEND;TZID=America/Chicago:20160218T203000
DTSTAMP:20260425T192002
CREATED:20151203T203123Z
LAST-MODIFIED:20151203T203123Z
UID:147730-1454004000-1455827400@urbanmilwaukee.com
SUMMARY:Drawing Basics
DESCRIPTION:Seeing is the key to great drawing. Working through observation\, learn drawing techniques while exploring a multitude of materials and gain valuable drawing skills. No drawing experience required. \nOnline registration closes three days before class begins. \nClasses are held at RAM’s Wustum Museum\, 2519 Northwestern Avenue\, Racine.\n4 Week Class \n
URL:https://urbanmilwaukee.com/event/drawing-basics/
CATEGORIES:Arts & Entertainment
END:VEVENT
BEGIN:VEVENT
DTSTART;TZID=America/Chicago:20160205T170000
DTEND;TZID=America/Chicago:20160205T210000
DTSTAMP:20260425T192002
CREATED:20160208T153738Z
LAST-MODIFIED:20160208T153738Z
UID:154921-1454691600-1454706000@urbanmilwaukee.com
SUMMARY:IN//OUT opening reception
DESCRIPTION:Join us for the opening of IN//OUT\, a group exhibition exploring both the advantage and burden of information overload in today’s world. The exhibition features work by emerging artists Lilia Banrevy\, Peter Klett\, Kate Klingbeil\, James Pederson\, Miguel Ramirez\, Lucas Ruminski and Sandra Schmidt\, and curated by Sean Heiser. \nArt practices today are met with boundless access to information. The Internet\, historical contexts\, well-scouted mediums\, and an excess of cultural ephemera grant a large amount of choices to art-making strategies. IN//OUT considers the image and object-making tendencies of a group of young artists\, and how they manifest through a diverse range of work –- in conceptual frameworks\, formal ideas\, and technical execution. \nIn context of each other\, the works display the eclectic modes through which this freedom to information reveals itself-through the symbols\, tropes\, and references that seep freely and ahistorically though the practices of these artists. IN//OUT is informed by an interest towards this disjunctive yet intelligible state. \nThe exhibition runs through March 19. Open to the public Tuesday–Saturday\, noon–5 pm. \n
URL:https://urbanmilwaukee.com/event/inout-opening-reception/
LOCATION:839 S. 5th St.\, Milwaukee\, WI\, 53204\, United States
CATEGORIES:Arts & Entertainment
ATTACH;FMTTYPE=image/png:https://urbanmilwaukee.com/wp-content/uploads/2016/01/INOUT_wbe1.png
END:VEVENT
BEGIN:VEVENT
DTSTART;TZID=America/Chicago:20160205T190000
DTEND;TZID=America/Chicago:20160205T200000
DTSTAMP:20260425T192002
CREATED:20160208T153754Z
LAST-MODIFIED:20160208T153755Z
UID:154655-1454698800-1454702400@urbanmilwaukee.com
SUMMARY:Glorious Galaxies
DESCRIPTION:While our own solar system is a mere speck in our galaxy that is approximately 100\,000 light years in diameter\, there are many more enormous galaxies in existence. In fact\, there are over 170 billion galaxies in the observable universe. Join us in exploring the beautiful shapes\, collisions\, and black holes all related to the unimaginable glory that is a galaxy. \n
URL:https://urbanmilwaukee.com/event/glorious-galaxies/
CATEGORIES:Arts & Entertainment
END:VEVENT
BEGIN:VEVENT
DTSTART;TZID=America/Chicago:20160205T200000
DTEND;TZID=America/Chicago:20160205T230000
DTSTAMP:20260425T192002
CREATED:20160122T140127Z
LAST-MODIFIED:20160122T140127Z
UID:151104-1454702400-1454713200@urbanmilwaukee.com
SUMMARY:The Last Revel w/ Thistledown Thunders
DESCRIPTION:THE LAST REVEL W/ THISTLEDOWN THUNDERS \nFri Feb 5 2016 8pm @ 224 W Bruce St. $8 \nFrom the budding music scene of the Upper Midwest comes the cutting edge Front Porch Americana soundscapes of The Last Revel. This powerfully talented trio of multi-instrumentalists from Minneapolis\, Minnesota so naturally blends the genres of Folk\, Rockabilly\, Old Time String-Band and Rock to create a sound that is as equally original as it is timeless.\nThe Last Revel is known for crafting a soul stirring live performance that further enthralls crowds with every tune. The Last Revel honed their style at a weekly open mic night at a dive bar in Southern Minnesota. Their performance spread by word of mouth until the bar was at maximum capacity every Thursday. When the dance floor was full\, folks danced on tables. The Last Revel strives for such wild performances at every show. \nThistledown Thunder’s dulcet ballads and screaming fiddle tunes are sure to get your toes tapping and boots stomping! \n$8\nhttps://anodynecoffee.com/shop/product-category/events/ \n
URL:https://urbanmilwaukee.com/event/the-last-revel-w-thistledown-thunders-3/
LOCATION:224 W. Bruce St.\, Milwaukee\, WI\, 53204\, United States
CATEGORIES:Arts & Entertainment
END:VEVENT
BEGIN:VEVENT
DTSTART;TZID=America/Chicago:20160205T200000
DTEND;TZID=America/Chicago:20160205T220000
DTSTAMP:20260425T192002
CREATED:20160208T154800Z
LAST-MODIFIED:20160208T154800Z
UID:154156-1454702400-1454709600@urbanmilwaukee.com
SUMMARY:Milwaukee Magic & Comedy Monthly
DESCRIPTION:Come Watch a Rotating Cast of Comedians\, Magicians\, and Variety Entertainers on the First Friday of Every Month!! \nFebruary Performances By:\nTwo Brothers One Mind!!\nRamie Makhlouf\nCarly Malison\nKevin Sklander\nMore Entertainers TBD…. \nTICKETS:\n$30 VIP (Priority Seating)\n$20 Adult (General)\n$15 Senior (60+)\n$15 Military (with ID)\n$5 OFF with Room Key or Dining Receipt\nhttps://www.universe.com/milwaukeemagicmonthly \n*Some material is intended for adults* \nBest Western Plus (Milwaukee Airport)\n5105 S. Howell Ave.\, Milwaukee\, WI 53207\nDoors Open at 7:00pm\nShow Begins at 8:00pm \nMILWAUKEE JOURNAL SENTINEL FULL PAGE ARTICLE: http://www.jsonline.com/greensheet/brother-magician-team-brings-comedy-and-telepathy-to-milwaukee-b99615652z1-358306201.html \nFOX 6 WAKE UP NEWS APPEARANCE: http://fox6now.com/2015/11/04/telepathic-entertainers-two-brothers-one-mind-show-off-their-skills/ \nKTI COUNTRY / JAKE & TANNER SHOW INTERVIEW: http://www.wtmj.com/kticountry/kti-shows/kti-morning-show/two-brothers-one-mind-stump-jake-tanner \nPRESS RELEASE: http://www.prlog.org/12492738-two-brothers-one-mind-are-bringing-the-midwest-monthly-magic-circuit-to-milwaukee.html \nPast Performances By: Comedians – Greg Bach\, Addie Blanchard\, Christopher Schmidt\, Carson Leet\, Mike Pisciotta\, Andrea Guzzetta\, Ryan Mason & Phil Davidson \nMagicians/Mentalists – Paul Kastle\, Kirk Patrick\, Ha Houdini\, Bill Cook\, Luka & Taylor Martin \n#MagicMKE #TBOM #TwoBrothersOneMind #Comedy #Magic #Milwaukee \n
URL:https://urbanmilwaukee.com/event/milwaukee-magic-comedy-monthly/
LOCATION:5105 S. Howell Ave.\, Milwaukee\, WI\, 53207\, United States
CATEGORIES:Arts & Entertainment
ATTACH;FMTTYPE=image/jpeg:https://urbanmilwaukee.com/wp-content/uploads/2016/01/Milwaukee-Poster.jpg
END:VEVENT
BEGIN:VEVENT
DTSTART;TZID=America/Chicago:20160205T200000
DTEND;TZID=America/Chicago:20160205T220000
DTSTAMP:20260425T192002
CREATED:20160208T155729Z
LAST-MODIFIED:20160208T155729Z
UID:155613-1454702400-1454709600@urbanmilwaukee.com
SUMMARY:Hot Room Comedy Showcase
DESCRIPTION:Come support some of Milwaukee’s best homegrown stand-up talent as well as some hilarious guests visiting from Chicago. Drink specials\, laughs and Brady St. What more could you ask for? \n
URL:https://urbanmilwaukee.com/event/hot-room-comedy-showcase/
LOCATION:707 E. Brady St.\, Milwaukee\, WI\, 53202\, United States
CATEGORIES:Arts & Entertainment
ATTACH;FMTTYPE=image/jpeg:https://urbanmilwaukee.com/wp-content/uploads/2016/02/hot-room.jpg
END:VEVENT
END:VCALENDAR