BEGIN:VCALENDAR
VERSION:2.0
PRODID:-//Urban Milwaukee - ECPv4.6.9//NONSGML v1.0//EN
CALSCALE:GREGORIAN
METHOD:PUBLISH
X-WR-CALNAME:Urban Milwaukee
X-ORIGINAL-URL:https://urbanmilwaukee.com
X-WR-CALDESC:Events for Urban Milwaukee
BEGIN:VEVENT
DTSTART;TZID=America/Chicago:20190510T170000
DTEND;TZID=America/Chicago:20190510T210000
DTSTAMP:20260419T232404
CREATED:20190402T035324Z
LAST-MODIFIED:20190402T035500Z
UID:447818-1557507600-1557522000@urbanmilwaukee.com
SUMMARY:Zootastic
DESCRIPTION:Kick off the annual Zoo season with Zootastic – the Zoological Society of Milwaukee’s special after-hours\, family-friendly FUNdraising party! \nJoin us as we stomp into our tenth year of Zootastic and go on an African zoofari\, exploring the brand-new home of the elephants plus big cats\, rhinos\, and giraffes! Meet the zookeepers (and maybe even a furry friend along the way)! Plus\, enjoy crafts and activities at each stop! \nRegistration is limited and fills up fast. Register online or call 414-258-2333 by May 9. Pre-registration is required; fees are not refundable. \n
URL:https://urbanmilwaukee.com/event/zootastic/
LOCATION:10005 W. Blue Mound Rd.\, Milwaukee\, WI\, 53226\, United States
CATEGORIES:Arts & Entertainment
ATTACH;FMTTYPE=image/png:https://urbanmilwaukee.com/wp-content/uploads/2019/04/kwt-logo-8.png
END:VEVENT
END:VCALENDAR