BEGIN:VCALENDAR
VERSION:2.0
PRODID:-//Urban Milwaukee - ECPv4.6.9//NONSGML v1.0//EN
CALSCALE:GREGORIAN
METHOD:PUBLISH
X-WR-CALNAME:Urban Milwaukee
X-ORIGINAL-URL:https://urbanmilwaukee.com
X-WR-CALDESC:Events for Urban Milwaukee
BEGIN:VEVENT
DTSTART;TZID=America/Chicago:20171005T190000
DTEND;TZID=America/Chicago:20171005T220000
DTSTAMP:20260423T190456
CREATED:20170919T174518Z
LAST-MODIFIED:20200101T220439Z
UID:375765-1507230000-1507240800@urbanmilwaukee.com
SUMMARY:Zoo Brew
DESCRIPTION:What’s Milwaukee without its beer? Now\, imagine enjoying your locally brewed draft at the Zoo near some of the most popular animals. The Zoological Society of Milwaukee is hosting its eighth annual fundraiser\, Zoo Brew\, on Oct. 5. By registering for the event you will get a tasting glass\, the opportunity to sample beers from nearly 30 breweries and enjoy food from area vendors. The money raised from this event goes to the Zoological Society of Milwaukee and its efforts to conserve\, educate and support the Milwaukee County Zoo. Sponsored by Sazama Design Build Remodel\, Zoo Brew is a beer lover’s perfect way to support the Milwaukee County Zoo. VIP ticket holders get early admission to the event and are entered into a drawing to win a behind-the-scenes tour of the Zoo. You must be at least 21 years old to attend\, and designated driver tickets are available. Like many events\, Zoo Pass members get a discounted ticket price. \nCost & registration:\nZoo Pass members & guests\, $50\, without a Zoo Pass\, $60\, designated drivers\, $20.\nVIP tickets:\nZoo Pass members & guests\, $60\, without a Zoo Pass\, $70\, designated drivers\, $30.\nOnline reservations will be accepted through Oct. 4\, 2017\, and walk-ins will be accepted unless the event fills prior to that date. Register at zoosociety.org/brew \nAbout the Zoological Society of Milwaukee\nThe mission of the Zoological Society of Milwaukee is to conserve wildlife and endangered species\, educate people about the importance of wildlife and the environment\, and support the Milwaukee County Zoo. \n
URL:https://urbanmilwaukee.com/event/zoo-brew-2/
LOCATION:10005 W. Blue Mound Rd.\, Milwaukee\, WI\, 53226\, United States
CATEGORIES:Food & Drink
ATTACH;FMTTYPE=image/jpeg:https://urbanmilwaukee.com/wp-content/uploads/2017/09/Zoo-Brew.jpg
END:VEVENT
END:VCALENDAR