BEGIN:VCALENDAR
VERSION:2.0
PRODID:-//Urban Milwaukee - ECPv4.6.9//NONSGML v1.0//EN
CALSCALE:GREGORIAN
METHOD:PUBLISH
X-WR-CALNAME:Urban Milwaukee
X-ORIGINAL-URL:https://urbanmilwaukee.com
X-WR-CALDESC:Events for Urban Milwaukee
BEGIN:VEVENT
DTSTART;TZID=America/Chicago:20190507T180000
DTEND;TZID=America/Chicago:20190507T190000
DTSTAMP:20260420T104325
CREATED:20190427T233443Z
LAST-MODIFIED:20190427T233443Z
UID:451931-1557252000-1557255600@urbanmilwaukee.com
SUMMARY:Yom HaZikaron: Israel’s Day of Remembrance
DESCRIPTION:Guest speaker: Gili Meisler\nOn the 71st Yom HaZikaron we commemorate the memory of those lost to us. The final resting place is still unknown for 173 IDF soldiers. Gili Meisler’s brother\, Giora\, was one of those soldiers. Gili made the film Fireflies about his family’s experience and as keynote speaker\, he will share his story with us. \nCeremony attendees are asked to wear white shirts. \n
URL:https://urbanmilwaukee.com/event/yom-hazikaron-israels-day-of-remembrance/
LOCATION:6255 N. Santa Monica Blvd.\, Whitefish Bay\, WI\, 53217\, United States
ATTACH;FMTTYPE=image/jpeg:https://urbanmilwaukee.com/wp-content/uploads/2019/04/Yom-Hazikaron-button.jpg
END:VEVENT
END:VCALENDAR