BEGIN:VCALENDAR
VERSION:2.0
PRODID:-//Urban Milwaukee - ECPv4.6.9//NONSGML v1.0//EN
CALSCALE:GREGORIAN
METHOD:PUBLISH
X-WR-CALNAME:Urban Milwaukee
X-ORIGINAL-URL:https://urbanmilwaukee.com
X-WR-CALDESC:Events for Urban Milwaukee
BEGIN:VEVENT
DTSTART;TZID=America/Chicago:20190505T150000
DTEND;TZID=America/Chicago:20190505T170000
DTSTAMP:20260420T135612
CREATED:20190427T231220Z
LAST-MODIFIED:20190427T231220Z
UID:451929-1557068400-1557075600@urbanmilwaukee.com
SUMMARY:Yom HaShoah: Holocaust Remembrance Day
DESCRIPTION:Special Features\n\nKeynote Speaker: Eric Blaustein was 12 years old when he saw his father taken away on Kristallnacht. He lived for three years with false papers and later survived Buchenwald by swapping identities with an Italian inmate who had died. He moved to Israel in 1948\, fought in the War of Independence\, and moved to the United States in 1954.\nHolocaust Education Honoree: Beth Feest\nWinners of the Holocaust Writing & Art Contest sponsored by the Habush Family Foundation\n\n
URL:https://urbanmilwaukee.com/event/yom-hashoah-holocaust-remembrance-day/
LOCATION:6255 N. Santa Monica Blvd.\, Whitefish Bay\, WI\, 53217\, United States
ATTACH;FMTTYPE=image/jpeg:https://urbanmilwaukee.com/wp-content/uploads/2019/04/Yom-HaShoah-button.jpg
END:VEVENT
END:VCALENDAR