BEGIN:VCALENDAR
VERSION:2.0
PRODID:-//Urban Milwaukee - ECPv4.6.9//NONSGML v1.0//EN
CALSCALE:GREGORIAN
METHOD:PUBLISH
X-WR-CALNAME:Urban Milwaukee
X-ORIGINAL-URL:https://urbanmilwaukee.com
X-WR-CALDESC:Events for Urban Milwaukee
BEGIN:VEVENT
DTSTART;TZID=America/Chicago:20171022T140000
DTEND;TZID=America/Chicago:20171022T180000
DTSTAMP:20260423T174407
CREATED:20171006T173027Z
LAST-MODIFIED:20171006T173027Z
UID:377850-1508680800-1508695200@urbanmilwaukee.com
SUMMARY:Yappy Halloween
DESCRIPTION:On Sunday\, October 22\, dogs take center stage for our second annual Yappy Halloween. Tails will wag as four-legged friends enjoy their treats and zombie-themed photo booths. Owners can let loose with featured Beam Suntory cocktails; $1 of each sold will be donated to the Humane Society. \n
URL:https://urbanmilwaukee.com/event/yappy-halloween/
LOCATION:500 W. Florida St.\, Milwaukee\, WI\, 53204\, United States
CATEGORIES:Food & Drink
ATTACH;FMTTYPE=image/png:https://urbanmilwaukee.com/wp-content/uploads/2017/10/Screen-Shot-2017-10-04-at-4.30.50-PM.png
END:VEVENT
END:VCALENDAR