BEGIN:VCALENDAR
VERSION:2.0
PRODID:-//Urban Milwaukee - ECPv4.6.9//NONSGML v1.0//EN
CALSCALE:GREGORIAN
METHOD:PUBLISH
X-WR-CALNAME:Urban Milwaukee
X-ORIGINAL-URL:https://urbanmilwaukee.com
X-WR-CALDESC:Events for Urban Milwaukee
BEGIN:VEVENT
DTSTART;TZID=America/Chicago:20191102T090000
DTEND;TZID=America/Chicago:20191102T160000
DTSTAMP:20260424T131909
CREATED:20191008T013249Z
LAST-MODIFIED:20191008T013617Z
UID:476454-1572685200-1572710400@urbanmilwaukee.com
SUMMARY:Xtreme Raptor Day
DESCRIPTION:Join us for the Center’s annual festival celebrating all things raptor! All 15 resident birds in our Raptor Program await you on the trails. Birds demonstrate their flying skills at our Raptor Flight Demos. Sign up for a personal meet and greet to have your picture taken with your favorite Raptor! All proceeds support our resident Raptors. Food trucks will be onsite if you would like to purchase food. \nTickets\n$15 adults | $8 youth (3-17 years old) | Free 2 & under \nPurchase your tickets below or on the day of the event when you arrive at Bayside Middle School for your free shuttle bus to take you to and from the Center. \nThis event takes place rain or shine. \nScheduled Activities\nEagle Meet & Greet: Glory | 9:00am – 11:00am \nSilent Auction | 9:00am – 3:30pm \nYour Photo with a Raptor (details below) | 10:00am – 3:45pm \nRaptor Flight Demos | 10:00am | 12:00pm | 2:00pm \nEagle Meet & Greet: Valkyrie | 12:00pm – 2:00pm \nTalon Quest Adventure Hike | 9:00am – 3:30pm\nThe main way to see our birds! Pick up an Xtreme Passport at the Admissions gate and follow clues in the passport to discover Schlitz Audubon’s resident Raptors on our trails! \nDrop-In Activities (ongoing throughout the day)\nBuild an Eagle Nest\nRaptor Artifacts\nGet the Lead Out\nEgg Smasher\nWhat’s That Smell?\nOwl Pellet Dissection\nFace Painting\nBird Weight Lifting\nVulture Vomit\nFlight ID Station\nBird Brains\nFeather Detectives \nPhoto Shoot Schedule\nRegister for your photo and personal meet & greet on the day of the event. Space is limited. Register and pay for photos at the front desk in the Great Hall\, then arrive 5 minutes prior to your scheduled time. More than one person may be in your photos. \n$10 per photo\, except Bald Eagle photo\, which is $25 each. \nNicco Broad-winged Hawk | 10:00am – 10:30am\nTucker Eastern Screech Owl | 10:30am – 11:00am\nOrion Barred Owl | 11:00am – 11:30am\nCutright Peregrine Falcon | 11:30am – 12:00pm\nSky Walker Red-tailed Hawk | 1:00pm – 1:30pm\nAthena Barn Owl | 1:30pm – 2:00pm\nTskili Great Horned Owl | 2:00pm – 2:30pm\nBaron von Screech Eastern Screech Owl | 2:30pm – 3:00pm\nValkyrie Bald Eagle | 3:00pm – 3:45pm (Note: $25/photo) \nParking and Transportation\nParking is at Bayside Middle School. Free shuttle buses will take you to the Center and return you to the school parking lot. \nA limited number of onsite parking spots are available for purchase below for $10. Anyone with a disabled parking placard or plate is welcome to park at the Center at no additional charge. \n
URL:https://urbanmilwaukee.com/event/xtreme-raptor-day/
LOCATION:1111 E. Brown Deer Rd.\, Milwaukee\, WI\, 53217\, United States
CATEGORIES:Arts & Entertainment
ATTACH;FMTTYPE=image/jpeg:https://urbanmilwaukee.com/wp-content/uploads/2019/09/xtreme-schlitz-audubon-web.jpg
END:VEVENT
END:VCALENDAR