BEGIN:VCALENDAR
VERSION:2.0
PRODID:-//Urban Milwaukee - ECPv4.6.9//NONSGML v1.0//EN
CALSCALE:GREGORIAN
METHOD:PUBLISH
X-WR-CALNAME:Urban Milwaukee
X-ORIGINAL-URL:https://urbanmilwaukee.com
X-WR-CALDESC:Events for Urban Milwaukee
BEGIN:VEVENT
DTSTART;TZID=America/Chicago:20210406T100000
DTEND;TZID=America/Chicago:20210406T104500
DTSTAMP:20260421T140832
CREATED:20210403T135117Z
LAST-MODIFIED:20210403T135547Z
UID:590578-1617703200-1617705900@urbanmilwaukee.com
SUMMARY:Worzalla Virtual Open House
DESCRIPTION:Worzalla is now hiring and we’d like you to join us for our 2021 Virtual Open House to learn more about who we are\, what we do\, and how you can become a part our team. During the 45-minute open house\, you’ll have an opportunity to take a virtual tour of our 350\,000 square foot facility and participate in a live question and answer session with a recruiter. Those who wish to attend can simply click the link to join any event at worzalla.com/virtual-open-house. The schedule of virtual open house events is as follows: \nTuesday\, April 6th:\n• 10:00am-10:45am\n• 5:00pm-5:45pm\nThursday\, April 8th:\n• 10:00am-10:45am\n• 5:00pm-5:45pm\nSaturday\, April 10th:\n• 11:00am-11:45am \n
URL:https://urbanmilwaukee.com/event/worzalla-virtual-open-house/
CATEGORIES:Business,Virtual
ATTACH;FMTTYPE=image/png:https://urbanmilwaukee.com/wp-content/uploads/2021/04/VOH.png
END:VEVENT
END:VCALENDAR