BEGIN:VCALENDAR
VERSION:2.0
PRODID:-//Urban Milwaukee - ECPv4.6.9//NONSGML v1.0//EN
CALSCALE:GREGORIAN
METHOD:PUBLISH
X-WR-CALNAME:Urban Milwaukee
X-ORIGINAL-URL:https://urbanmilwaukee.com
X-WR-CALDESC:Events for Urban Milwaukee
BEGIN:VEVENT
DTSTART;TZID=America/Chicago:20230211T110000
DTEND;TZID=America/Chicago:20230211T150000
DTSTAMP:20260423T073411
CREATED:20230211T070557Z
LAST-MODIFIED:20230211T070557Z
UID:703159-1676113200-1676127600@urbanmilwaukee.com
SUMMARY:Woolly Bear Winter Festival
DESCRIPTION:Join us for a bonfire\, s’mores and hot dogs/brats/veggie dogs\, sledding and ice-skating (weather permitting)\, “Northern Lights”: a woolly bear play (starting at 1:30pm)\, face painting and other kid-friendly crafts- including making a bird feeder and prizes for the winter scavenger hunt! This is a free family-fun event! \nCelebrate winter and the woolly bear! The woolly bear is the one of the only caterpillars to over-winter/hibernate and is local to North America. Learn more fun facts at the fest! \n
URL:https://urbanmilwaukee.com/event/woolly-bear-winter-festival/
LOCATION:2134 N Riverboat Rd\, Milwaukee\, 53212\, United States
CATEGORIES:Arts & Entertainment,Environment,Kids
ATTACH;FMTTYPE=image/png:https://urbanmilwaukee.com/wp-content/uploads/2023/02/WOOLLY-BEAR-2023-Facebook-Cover.png
END:VEVENT
END:VCALENDAR