BEGIN:VCALENDAR
VERSION:2.0
PRODID:-//Urban Milwaukee - ECPv4.6.9//NONSGML v1.0//EN
CALSCALE:GREGORIAN
METHOD:PUBLISH
X-WR-CALNAME:Urban Milwaukee
X-ORIGINAL-URL:https://urbanmilwaukee.com
X-WR-CALDESC:Events for Urban Milwaukee
BEGIN:VEVENT
DTSTART;VALUE=DATE:20191226
DTEND;VALUE=DATE:20191227
DTSTAMP:20260422T233610
CREATED:20191114T175817Z
LAST-MODIFIED:20191114T175817Z
UID:485252-1577318400-1577404799@urbanmilwaukee.com
SUMMARY:Winter Adventure Day: Wilderness Exploration
DESCRIPTION:School’s out! Join us for a whole day of winter fun. Make new friends as you adventure into the woods\, learn how to snowshoe and complete a scavenger hunt! For kids in 2nd-4th grade only\, pre-registration is required. Dress for the weather and bring a bag lunch! \nCost: For children in 2nd-4th grade| Program Cost: $75 | Member Discount: $54 | Price Break: $35 \n
URL:https://urbanmilwaukee.com/event/winter-adventure-day-wilderness-exploration/
LOCATION:1500 E. Park Pl\, Milwaukee\, WI\, 53211\, United States
CATEGORIES:Kids
ATTACH;FMTTYPE=image/jpeg:https://urbanmilwaukee.com/wp-content/uploads/2019/11/IMG_7892.jpg
END:VEVENT
END:VCALENDAR