BEGIN:VCALENDAR
VERSION:2.0
PRODID:-//Urban Milwaukee - ECPv4.6.9//NONSGML v1.0//EN
CALSCALE:GREGORIAN
METHOD:PUBLISH
X-WR-CALNAME:Urban Milwaukee
X-ORIGINAL-URL:https://urbanmilwaukee.com
X-WR-CALDESC:Events for Urban Milwaukee
BEGIN:VEVENT
DTSTART;TZID=America/Chicago:20191127T180000
DTEND;TZID=America/Chicago:20191127T210000
DTSTAMP:20260422T061141
CREATED:20191025T091831Z
LAST-MODIFIED:20191025T091831Z
UID:480727-1574877600-1574888400@urbanmilwaukee.com
SUMMARY:Wine in the Ward: Thanksgiving Edition
DESCRIPTION:Join us for a pre-Thanksgiving wine tasting! \nThis is casual tasting just in time for you to purchase your favorite fall wines for your holiday get-togethers. \nTicket includes five different pours and snacks will be available (cheese\, meats\, crackers). \nRetail discounts on bottle purchases. \n
URL:https://urbanmilwaukee.com/event/wine-in-the-ward-thanksgiving-edition/
LOCATION:219 E. Erie St.\, Milwaukee\, WI\, 53202\, United States
CATEGORIES:Food & Drink
ATTACH;FMTTYPE=image/png:https://urbanmilwaukee.com/wp-content/uploads/2019/10/Wine-in-The-ward_-Thanksgiving-Edition.png
END:VEVENT
END:VCALENDAR