BEGIN:VCALENDAR
VERSION:2.0
PRODID:-//Urban Milwaukee - ECPv4.6.9//NONSGML v1.0//EN
CALSCALE:GREGORIAN
METHOD:PUBLISH
X-WR-CALNAME:Urban Milwaukee
X-ORIGINAL-URL:https://urbanmilwaukee.com
X-WR-CALDESC:Events for Urban Milwaukee
BEGIN:VEVENT
DTSTART;TZID=America/Chicago:20190801T120000
DTEND;TZID=America/Chicago:20190801T130000
DTSTAMP:20260422T142046
CREATED:20190731T221637Z
LAST-MODIFIED:20190731T221637Z
UID:466202-1564660800-1564664400@urbanmilwaukee.com
SUMMARY:WhiskeyBelles Live at the Peck
DESCRIPTION:Three Chords and the truth! Roots Country Music\, Born of Gin Halls and Juke Joints – Hank Williams passion\, Carter family harmonies\, with a little Hee Haw mixed in for good measure. \nThe WhiskeyBelles are an all-female traditional country and Americana trio based out of Milwaukee\, Wisconsin. The Belles are widely known for captivating shows featuring their own take on classic and obscure vintage-country\, Americana\, folk-revival and roots-country tunes\, with their own witty originals sprinkled in. They’ve been compared with the Pistol Annies\, Dixie Chicks and The Trio (Dolly Parton\, Emmy Lou Harris & Linda Ronstadt). The ‘Belles have personalities as big as the Texan skyline – they have a great time on stage\, and love to share the fun with their audience. \n
URL:https://urbanmilwaukee.com/event/whiskeybelles-live-at-the-peck/
LOCATION:929 N. Water St.\, Milwaukee\, WI\, 53202\, United States
CATEGORIES:Arts & Entertainment
ATTACH;FMTTYPE=image/jpeg:https://urbanmilwaukee.com/wp-content/uploads/2017/06/IMG_2856.jpg
END:VEVENT
END:VCALENDAR