BEGIN:VCALENDAR
VERSION:2.0
PRODID:-//Urban Milwaukee - ECPv4.6.9//NONSGML v1.0//EN
CALSCALE:GREGORIAN
METHOD:PUBLISH
X-WR-CALNAME:Urban Milwaukee
X-ORIGINAL-URL:https://urbanmilwaukee.com
X-WR-CALDESC:Events for Urban Milwaukee
BEGIN:VEVENT
DTSTART;TZID=America/Chicago:20171006T200000
DTEND;TZID=America/Chicago:20171006T220000
DTSTAMP:20260423T234322
CREATED:20170920T191919Z
LAST-MODIFIED:20170920T191919Z
UID:375283-1507320000-1507327200@urbanmilwaukee.com
SUMMARY:When Black Holes Collide: Gravitational Waves and the Discovery of the Century
DESCRIPTION:Please join us for an evening of scientific discussion\, appetizers\, and a cash bar. CGCA Professor Patrick Brady of the Laser Interferometer Gravitational-wave Observatory (LIGO) will share the excitement of the discovery of gravitational waves\, followed by opportunities for informal discussions with faculty and students about recent discoveries and ongoing research. \nThe festivities will take place in the atrium of the\nKenwood Interdisciplinary Research Complex (KEN) located at 3135 N. Maryland Ave. \nPlease RSVP to (414)229-2677 or cgca-info@uwm.edu. \n
URL:https://urbanmilwaukee.com/event/when-black-holes-collide-gravitational-waves-and-the-discovery-of-the-century/
CATEGORIES:Arts & Entertainment
ATTACH;FMTTYPE=image/jpeg:https://urbanmilwaukee.com/wp-content/uploads/2017/09/oct6_digital.jpg
END:VEVENT
END:VCALENDAR