BEGIN:VCALENDAR
VERSION:2.0
PRODID:-//Urban Milwaukee - ECPv4.6.9//NONSGML v1.0//EN
CALSCALE:GREGORIAN
METHOD:PUBLISH
X-WR-CALNAME:Urban Milwaukee
X-ORIGINAL-URL:https://urbanmilwaukee.com
X-WR-CALDESC:Events for Urban Milwaukee
BEGIN:VEVENT
DTSTART;TZID=America/Chicago:20171026T190000
DTEND;TZID=America/Chicago:20171026T210000
DTSTAMP:20260423T220123
CREATED:20171019T200803Z
LAST-MODIFIED:20171019T200803Z
UID:379561-1509044400-1509051600@urbanmilwaukee.com
SUMMARY:We're Here for a Fish Fry!
DESCRIPTION:Ron Faiola’s latest documentary\, We’re Here for a Fish Fry! shows the Wisconsin Friday night fish fry tradition from the peak season of Lent to summer lakefront dining. The film features different types of fish including cod\, perch\, bluegill\, haddock and smelt as well as a trip on a commercial fishing boat in the bay of Green Bay\, a fish fry pizza and all-you-can-eat buffets. Premiere screening is at the Oriental Theatre on Thursday\, October 26th at 7PM. Tickets are available at the Oriental Theatre box office or fishfrymovie.com. \n
URL:https://urbanmilwaukee.com/event/were-here-for-a-fish-fry/
CATEGORIES:Arts & Entertainment
ATTACH;FMTTYPE=image/jpeg:https://urbanmilwaukee.com/wp-content/uploads/2017/10/fish-fry-in-gym-sign.jpg
END:VEVENT
END:VCALENDAR