BEGIN:VCALENDAR
VERSION:2.0
PRODID:-//Urban Milwaukee - ECPv4.6.9//NONSGML v1.0//EN
CALSCALE:GREGORIAN
METHOD:PUBLISH
X-WR-CALNAME:Urban Milwaukee
X-ORIGINAL-URL:https://urbanmilwaukee.com
X-WR-CALDESC:Events for Urban Milwaukee
BEGIN:VEVENT
DTSTART;TZID=America/Chicago:20191221T140000
DTEND;TZID=America/Chicago:20191221T173000
DTSTAMP:20260423T151241
CREATED:20191214T040254Z
LAST-MODIFIED:20191214T040254Z
UID:490618-1576936800-1576949400@urbanmilwaukee.com
SUMMARY:Weekend Wine Tasting With Casey Stringer
DESCRIPTION:On Saturday\, December 21 from 2:00 p.m. to 5:30 p.m.\, winemaker and Wisconsin-native Casey Stringer of Stringer Cellars will visit Waterford Wine and Spirits in Delafield for a special meet and greet wine tasting. This free tasting is open to the public and will feature four of Stringer Cellars’ remarkable wines. Sourced from some of the most prestigious vineyards in California and made with minimalist winemaking techniques\, Stringer Cellars is proud family-owned and operated operation in Sonoma County. This afternoon tasting will include the Chardonnay Linda Vista 2018\, Syrah Harrison Clarke 2016\, Cabernet Sauvignon Napa 2017\, and Cabernet Sauvignon Stagecoach 2017. For more information\, please visit here. Open house\, no registration required. \n
URL:https://urbanmilwaukee.com/event/weekend-wine-tasting-with-casey-stringer/
CATEGORIES:Food & Drink
ATTACH;FMTTYPE=image/jpeg:https://urbanmilwaukee.com/wp-content/uploads/2019/12/Stringer-Cellars-Event.jpg
END:VEVENT
END:VCALENDAR