BEGIN:VCALENDAR
VERSION:2.0
PRODID:-//Urban Milwaukee - ECPv4.6.9//NONSGML v1.0//EN
CALSCALE:GREGORIAN
METHOD:PUBLISH
X-WR-CALNAME:Urban Milwaukee
X-ORIGINAL-URL:https://urbanmilwaukee.com
X-WR-CALDESC:Events for Urban Milwaukee
BEGIN:VEVENT
DTSTART;TZID=America/Chicago:20200718T080000
DTEND;TZID=America/Chicago:20200718T110000
DTSTAMP:20260424T093038
CREATED:20200713T113829Z
LAST-MODIFIED:20200713T113930Z
UID:529792-1595059200-1595070000@urbanmilwaukee.com
SUMMARY:Yardversity Blitz - Documenting the Biodiversity in your Backyard!
DESCRIPTION:Join the Yardversity Blitz event as people from around Milwaukee (and even the world!) will take to their backyards as they “compete” in the Yardversity Blitz. Join this fun and interactive biodiversity challenge from your own backyard or neighborhood! How many species can we document collectively? Connect with your backyard and contribute to science! The event will kick off with a lecture on an overview of common backyard wildlife\, followed by data collection and discussions on all things flora and fauna\, trivia\, and a raffle prize drawing. Come join us and turn your backyard into your own research station! Remember that this is in the Central Time Zone. \nThis event will take place on Youtube live. \n
URL:https://urbanmilwaukee.com/event/virtual-yardversity-blitz-documenting-the-biodiversity-in-your-backyard/
LOCATION:1500 E. Park Pl\, Milwaukee\, WI\, 53211\, United States
CATEGORIES:Environment
ATTACH;FMTTYPE=image/jpeg:https://urbanmilwaukee.com/wp-content/uploads/2020/07/backyard.jpg
END:VEVENT
END:VCALENDAR