BEGIN:VCALENDAR
VERSION:2.0
PRODID:-//Urban Milwaukee - ECPv4.6.9//NONSGML v1.0//EN
CALSCALE:GREGORIAN
METHOD:PUBLISH
X-WR-CALNAME:Urban Milwaukee
X-ORIGINAL-URL:https://urbanmilwaukee.com
X-WR-CALDESC:Events for Urban Milwaukee
BEGIN:VEVENT
DTSTART;TZID=America/Chicago:20210507T120000
DTEND;TZID=America/Chicago:20210507T130000
DTSTAMP:20260422T181941
CREATED:20210503T003917Z
LAST-MODIFIED:20210503T003917Z
UID:596549-1620388800-1620392400@urbanmilwaukee.com
SUMMARY:Virtual In Conversation: Katharina Grosse
DESCRIPTION:Free and open to all via Zoom \nJoin the Milwaukee Art Museum’s Contemporary Art Society for a virtual conversation with German artist Katharina Grosse and Margaret Andera\, interim chief curator and curator of contemporary art. Untitled (2019) by Grosse was recently acquired for the Museum’s collection\, with support from the Contemporary Art Society. The painting is not only the first work by the artist to enter the collection but also the first by a female artist in the Museum’s collection of contemporary German paintings. \nGrosse is known for her brightly colored acrylic paintings and installations\, explorations of color density and temperature\, and the interplay between color and light. Grosse has exhibited internationally\, and her work is in major museum collections\, including at the Museum of Modern Art\, in New York. Untitled is on view along the route through the first-floor galleries. \nSponsored by Milwaukee Art Museum’s Contemporary Art Society. \n
URL:https://urbanmilwaukee.com/event/virtual-in-conversation-katharina-grosse/
LOCATION:700 N Art Museum Dr\, Milwaukee\, WI\, 53202\, United States
CATEGORIES:Arts & Entertainment
ATTACH;FMTTYPE=image/jpeg:https://urbanmilwaukee.com/wp-content/uploads/2021/04/Grosse.jpg
END:VEVENT
END:VCALENDAR