BEGIN:VCALENDAR
VERSION:2.0
PRODID:-//Urban Milwaukee - ECPv4.6.9//NONSGML v1.0//EN
CALSCALE:GREGORIAN
METHOD:PUBLISH
X-WR-CALNAME:Urban Milwaukee
X-ORIGINAL-URL:https://urbanmilwaukee.com
X-WR-CALDESC:Events for Urban Milwaukee
BEGIN:VEVENT
DTSTART;TZID=America/Chicago:20251004T110000
DTEND;TZID=America/Chicago:20251004T230000
DTSTAMP:20260421T033103
CREATED:20250920T115301Z
LAST-MODIFIED:20250920T115301Z
UID:903355-1759575600-1759618800@urbanmilwaukee.com
SUMMARY:Villain Arts' 15th Annual Milwaukee Tattoo Arts Festival
DESCRIPTION:Villain Arts’ 15th Annual Milwaukee Tattoo Arts Festival comes to Baird Center this fall! October 3rd–5th\, downtown Milwaukee will be buzzing as hundreds of world-class tattooers gather to celebrate body art\, performance\, and creativity. \nThe artists in attendance will have options on offer\, including flash and custom work. Want to get tattooed at the show? You can reach out to your favorite artist in advance to book an appointment\, or just show up and see who’s taking walk-ups! You may even recognize some artists from their time on Ink Master and VH1. Don’t forget the tattoo contests: whether a piece is brand new or years old\, attendees can enter to compete for a chance to take home a trophy. \nThere will also be expert piercers\, tooth gem artists\, and vendors selling everything from jewelry and clothing to oddities and art pieces. There will also be a full lineup of live entertainment throughout the weekend\, including human suspension acts\, a contortionist archer\, dazzling burlesque sideshow performances\, and more. The 15th Annual Milwaukee Tattoo Arts Festival promises something for everyone. Don’t miss your chance to be part of one of the Midwest’s most exciting tattoo events! \nEvent Hours by Day are as Follows:\nFri Oct 3rd 2 p.m. – 11 p.m.\nSat Oct 4th 11 a.m. – 11 p.m.\nSun Oct 5th 11 a.m. – 8 p.m. \nTickets:\n$20 for a one day pass\, $40 for a 3-day pass. Children under 12 are free. \n
URL:https://urbanmilwaukee.com/event/villain-arts-15th-annual-milwaukee-tattoo-arts-festival-2/
LOCATION:405 W. Kilbourn Ave.\, Milwaukee\, WI\, 53203\, United States
CATEGORIES:Arts & Entertainment
ATTACH;FMTTYPE=image/jpeg:https://urbanmilwaukee.com/wp-content/uploads/2025/09/Milwaukee-social-square-scaled.jpg
END:VEVENT
END:VCALENDAR