BEGIN:VCALENDAR
VERSION:2.0
PRODID:-//Urban Milwaukee - ECPv4.6.9//NONSGML v1.0//EN
CALSCALE:GREGORIAN
METHOD:PUBLISH
X-WR-CALNAME:Urban Milwaukee
X-ORIGINAL-URL:https://urbanmilwaukee.com
X-WR-CALDESC:Events for Urban Milwaukee
BEGIN:VEVENT
DTSTART;TZID=America/Chicago:20241012T100000
DTEND;TZID=America/Chicago:20241012T150000
DTSTAMP:20260423T123852
CREATED:20241008T222753Z
LAST-MODIFIED:20241008T222753Z
UID:807357-1728727200-1728745200@urbanmilwaukee.com
SUMMARY:Vendor/Craft Fair and Bake Sale
DESCRIPTION:Second Hand Purrs Vendor/Craft Fair and Bake Sale returns on Saturday\, October 12. \nLocation: Knights of Columbus in South Milwaukee\, 732 Badger Avenue \nTime: 10 a.m. to 3 p.m. \nCome shop 20+ vendors and crafters\, plus lots of yummy bakery for sale! \n
URL:https://urbanmilwaukee.com/event/vendor-craft-fair-and-bake-sale/
LOCATION:732 Badger Ave\, South Milwaukee\, WI\, 53172\, United States
CATEGORIES:Food & Drink,Fundraiser,Pets
ATTACH;FMTTYPE=image/jpeg:https://urbanmilwaukee.com/wp-content/uploads/2024/09/Vendor-Craft-Fair-Flyer-Fall-2024.jpg
ORGANIZER;CN="Second%20Hand%20Purrs":MAILTO:secondhandpurrs@gmail.com
END:VEVENT
END:VCALENDAR