BEGIN:VCALENDAR
VERSION:2.0
PRODID:-//Urban Milwaukee - ECPv4.6.9//NONSGML v1.0//EN
CALSCALE:GREGORIAN
METHOD:PUBLISH
X-WR-CALNAME:Urban Milwaukee
X-ORIGINAL-URL:https://urbanmilwaukee.com
X-WR-CALDESC:Events for Urban Milwaukee
BEGIN:VEVENT
DTSTART;TZID=America/Chicago:20160923T150000
DTEND;TZID=America/Chicago:20160923T160000
DTSTAMP:20260425T211720
CREATED:20160915T110356Z
LAST-MODIFIED:20160915T110356Z
UID:183868-1474642800-1474646400@urbanmilwaukee.com
SUMMARY:UWM's Academic Adventurers Series: “The Great Red Island: Rediscovering Madagascar”
DESCRIPTION:Gabrielle Verdier\, professor emerita of French at UWM\, will speak about her recent travels to Madagascar\, where she spent much of her youth. With Juan-Marcos Rodriguez-Luis. \nAcademic Adventurers talks begin at 3 p.m. in the American Geographical Society Library\, third floor\, east wing of the Golda Meir Library. \nA reception with light refreshments\, sponsored by the Friends of the Golda Meir Library\, follows each talk. \n
URL:https://urbanmilwaukee.com/event/uwms-academic-adventurers-series-the-great-red-island-rediscovering-madagascar/
LOCATION:2311 E. Hartford Ave.\, Milwaukee\, WI\, 53211\, United States
CATEGORIES:Arts & Entertainment
ATTACH;FMTTYPE=image/jpeg:https://urbanmilwaukee.com/wp-content/uploads/2016/09/verdier1.jpg
END:VEVENT
END:VCALENDAR