BEGIN:VCALENDAR
VERSION:2.0
PRODID:-//Urban Milwaukee - ECPv4.6.9//NONSGML v1.0//EN
CALSCALE:GREGORIAN
METHOD:PUBLISH
X-WR-CALNAME:Urban Milwaukee
X-ORIGINAL-URL:https://urbanmilwaukee.com
X-WR-CALDESC:Events for Urban Milwaukee
BEGIN:VEVENT
DTSTART;TZID=America/Chicago:20191107T193000
DTEND;TZID=America/Chicago:20191107T200000
DTSTAMP:20260424T063658
CREATED:20191030T012424Z
LAST-MODIFIED:20191030T022113Z
UID:482251-1573155000-1573156800@urbanmilwaukee.com
SUMMARY:UWM United We Read
DESCRIPTION:United We Read is the Graduate Creative Writing Program’s student-faculty reading series that takes place is venues throughout the community. \nThis edition takes place at Woodland Pattern and features readings by Sasheene Denny\, Brandon Henry\, Jessie Roy\, and Rebecca Dunham. \n
URL:https://urbanmilwaukee.com/event/uwm-united-we-read/
LOCATION:720 E. Locust St.\, Milwaukee\, WI\, 53212\, United States
CATEGORIES:Arts & Entertainment
ATTACH;FMTTYPE=image/jpeg:https://urbanmilwaukee.com/wp-content/uploads/2019/10/73446222_2488036571292633_1264666542080000000_o.jpg
END:VEVENT
END:VCALENDAR