BEGIN:VCALENDAR
VERSION:2.0
PRODID:-//Urban Milwaukee - ECPv4.6.9//NONSGML v1.0//EN
CALSCALE:GREGORIAN
METHOD:PUBLISH
X-WR-CALNAME:Urban Milwaukee
X-ORIGINAL-URL:https://urbanmilwaukee.com
X-WR-CALDESC:Events for Urban Milwaukee
BEGIN:VEVENT
DTSTART;TZID=America/Chicago:20190120T220000
DTEND;TZID=America/Chicago:20190120T234500
DTSTAMP:20260423T002325
CREATED:20190115T024449Z
LAST-MODIFIED:20190115T025333Z
UID:436299-1548021600-1548027900@urbanmilwaukee.com
SUMMARY:UWM Planetarium Show: Total Lunar Eclipse
DESCRIPTION:Witness a total lunar eclipse at the UWM Manfred Olson Planetarium! Starting at 10 p.m.\, telescopes and binoculars will be set up outdoors for visitors to view this incredible phenomenon of the moon passing through Earth’s shadow. \nThis free\, all-ages event kicks off a year-long series of moon-themed Planetarium events marking the 50th anniversary of the 1969 Apollo lunar landing. \nThe full eclipse occurs at 11:12 p.m. Warm up with hot chocolate (available for a modest fee). In the event of inclement weather\, we will move indoors for a free planetarium program. \n
URL:https://urbanmilwaukee.com/event/uwm-planetarium-show-total-lunar-eclipse/
LOCATION:1900 E .Kenwood Blvd.\, Milwaukee\, WI\, 53211\, United States
CATEGORIES:Arts & Entertainment
ATTACH;FMTTYPE=image/jpeg:https://urbanmilwaukee.com/wp-content/uploads/2019/01/lunar-eclipse.jpg
END:VEVENT
END:VCALENDAR