BEGIN:VCALENDAR
VERSION:2.0
PRODID:-//Urban Milwaukee - ECPv4.6.9//NONSGML v1.0//EN
CALSCALE:GREGORIAN
METHOD:PUBLISH
X-WR-CALNAME:Urban Milwaukee
X-ORIGINAL-URL:https://urbanmilwaukee.com
X-WR-CALDESC:Events for Urban Milwaukee
BEGIN:VEVENT
DTSTART;TZID=America/Chicago:20190705T190000
DTEND;TZID=America/Chicago:20190705T200000
DTSTAMP:20260421T121927
CREATED:20190704T150034Z
LAST-MODIFIED:20190704T150034Z
UID:462908-1562353200-1562356800@urbanmilwaukee.com
SUMMARY:UWM Planetarium Show: Moon to Mars
DESCRIPTION:Since 1959\, seven nations have sent over 50 spacecraft to the moon. Six people in human history have stepped on the lunar surface and onto another world. What will it take to get us to Mars? Learn about the challenges associated with going to Mars and how we can use what we have learned from over 50 years of lunar exploration to get us there. Enjoy indoor stargazing with a tour of the local night sky free of light pollution followed by the opportunity to ask questions of astronomer Jean Creighton. \nThis event is family-friendly. Tickets are $5 and may be purchased online in advance. \n
URL:https://urbanmilwaukee.com/event/uwm-planetarium-show-moon-to-mars/
LOCATION:1900 E .Kenwood Blvd.\, Milwaukee\, WI\, 53211\, United States
CATEGORIES:Arts & Entertainment
ATTACH;FMTTYPE=image/jpeg:https://urbanmilwaukee.com/wp-content/uploads/2019/07/mars-v-moon.jpg
END:VEVENT
END:VCALENDAR