BEGIN:VCALENDAR
VERSION:2.0
PRODID:-//Urban Milwaukee - ECPv4.6.9//NONSGML v1.0//EN
CALSCALE:GREGORIAN
METHOD:PUBLISH
X-WR-CALNAME:Urban Milwaukee
X-ORIGINAL-URL:https://urbanmilwaukee.com
X-WR-CALDESC:Events for Urban Milwaukee
BEGIN:VEVENT
DTSTART;TZID=America/Chicago:20190503T190000
DTEND;TZID=America/Chicago:20190503T200000
DTSTAMP:20260421T043203
CREATED:20190315T004751Z
LAST-MODIFIED:20190315T004751Z
UID:445424-1556910000-1556913600@urbanmilwaukee.com
SUMMARY:UWM Planetarium Show: Arabian Nights
DESCRIPTION:Did you know that many names of stars are Arabic? Join the UW-Milwaukee Planetarium crew at their “Arabian Nights” show to learn about all aspects of Arab culture\, from food to architecture\, as well as its many contributions to astronomy. \nGuest speakers Lina Badwan and Mohamed Maache will give a personal account of their homelands\, Palestine and Algeria. Gaze at the starry night sky as astronomer Jean Creighton shares her favorite story from “One Thousand and One Nights.” \nThis show is family-friendly. Tickets are $5. Shows tend to sell out quickly\, so get your tickets today! \n
URL:https://urbanmilwaukee.com/event/uwm-planetarium-show-arabian-nights-6/
LOCATION:1900 E .Kenwood Blvd.\, Milwaukee\, WI\, 53211\, United States
CATEGORIES:Arts & Entertainment
ATTACH;FMTTYPE=image/jpeg:https://urbanmilwaukee.com/wp-content/uploads/2019/03/Planetarium-March-29.jpg
END:VEVENT
END:VCALENDAR