BEGIN:VCALENDAR
VERSION:2.0
PRODID:-//Urban Milwaukee - ECPv4.6.9//NONSGML v1.0//EN
CALSCALE:GREGORIAN
METHOD:PUBLISH
X-WR-CALNAME:Urban Milwaukee
X-ORIGINAL-URL:https://urbanmilwaukee.com
X-WR-CALDESC:Events for Urban Milwaukee
BEGIN:VEVENT
DTSTART;TZID=America/Chicago:20170511T170000
DTEND;TZID=America/Chicago:20170511T190000
DTSTAMP:20260420T215513
CREATED:20170428T092018Z
LAST-MODIFIED:20170428T092117Z
UID:208935-1494522000-1494529200@urbanmilwaukee.com
SUMMARY:UWM Furrow Magazine Release Party
DESCRIPTION:Furrow\, UWM’s undergraduate literary magazine\, is hosting its annual issue release party on Thursday\, May 11\, 2017 from 5 p.m. to 7 p.m. at Milwaukee’s Art Bar (722 E. Burleigh St.). \nCome celebrate Furrow’s newest publication with readings from the new issue\, raffles\, and door prizes! Copies of the magazine will also be available for purchase. Admission is free to the public\, and all ages are welcome! \nDating back to 2000\, Furrow showcases outstanding undergraduate writing and art from across the U.S. and gives UW-Milwaukee undergraduates training in editing\, publishing\, publication design\, web design\, publicity\, fundraising\, and business practices. \n
URL:https://urbanmilwaukee.com/event/uwm-furrow-magazine-release-party/
CATEGORIES:Arts & Entertainment
ATTACH;FMTTYPE=image/png:https://urbanmilwaukee.com/wp-content/uploads/2017/04/Art-Bar-Milwaukee.png
END:VEVENT
END:VCALENDAR