BEGIN:VCALENDAR
VERSION:2.0
PRODID:-//Urban Milwaukee - ECPv4.6.9//NONSGML v1.0//EN
CALSCALE:GREGORIAN
METHOD:PUBLISH
X-WR-CALNAME:Urban Milwaukee
X-ORIGINAL-URL:https://urbanmilwaukee.com
X-WR-CALDESC:Events for Urban Milwaukee
BEGIN:VEVENT
DTSTART;TZID=America/Chicago:20200219T180000
DTEND;TZID=America/Chicago:20200219T193000
DTSTAMP:20260422T044737
CREATED:20200130T230044Z
LAST-MODIFIED:20200201T142634Z
UID:497198-1582135200-1582140600@urbanmilwaukee.com
SUMMARY:Urban Milwaukee Social at the Haggerty Museum
DESCRIPTION:Come explore the Haggerty Museum with the Urban Milwaukee staff on February 19 from 6 p.m. to 7:30 p.m. Our members are welcome to bring a guest or come on their own to experience a tour of the museum\, and enjoy great conversation with the Urban Milwaukee and Haggerty Museum staff\, along with some complimentary snacks and drinks. \nClick Here to get your tickets. \n
URL:https://urbanmilwaukee.com/event/urban-milwaukee-social-at-the-haggerty-museum/
LOCATION:1234 W. Tory Hill\, Milwaukee\, WI\, 53233\, United States
CATEGORIES:Arts & Entertainment,Food & Drink,Members Only
ATTACH;FMTTYPE=image/png:https://urbanmilwaukee.com/wp-content/uploads/2020/01/Haggerty-Event.png
ORGANIZER;CN="Urban%20Milwaukee":MAILTO:info@urbanmilwaukee.com
END:VEVENT
END:VCALENDAR