BEGIN:VCALENDAR
VERSION:2.0
PRODID:-//Urban Milwaukee - ECPv4.6.9//NONSGML v1.0//EN
CALSCALE:GREGORIAN
METHOD:PUBLISH
X-WR-CALNAME:Urban Milwaukee
X-ORIGINAL-URL:https://urbanmilwaukee.com
X-WR-CALDESC:Events for Urban Milwaukee
BEGIN:VEVENT
DTSTART;TZID=America/Chicago:20200305T173000
DTEND;TZID=America/Chicago:20200305T193000
DTSTAMP:20260421T095135
CREATED:20200303T222555Z
LAST-MODIFIED:20200303T222555Z
UID:504025-1583429400-1583436600@urbanmilwaukee.com
SUMMARY:Urban Milwaukee Member Social At Bittercube Bar + Bazaar
DESCRIPTION:SOLD OUT\nJoin the Urban Milwaukee staff and other members at the Bittercube Bar + Bazaar. Grab a free drink\, take a tour of the bitters facility\, and peruse the gift shop. This event is for members only. To become a member of Urban Milwaukee and attend this event\, click here. \n
URL:https://urbanmilwaukee.com/event/urban-milwaukee-member-social-at-bittercube-bar-bazaar/
LOCATION:4828 W. Lisbon Ave.\, Milwaukee\, WI\, United States
CATEGORIES:Food & Drink,Members Only
ATTACH;FMTTYPE=image/png:https://urbanmilwaukee.com/wp-content/uploads/2020/02/Bittercube-Social-1-1.png
ORGANIZER;CN="Urban%20Milwaukee":MAILTO:info@urbanmilwaukee.com
END:VEVENT
END:VCALENDAR