BEGIN:VCALENDAR
VERSION:2.0
PRODID:-//Urban Milwaukee - ECPv4.6.9//NONSGML v1.0//EN
CALSCALE:GREGORIAN
METHOD:PUBLISH
X-WR-CALNAME:Urban Milwaukee
X-ORIGINAL-URL:https://urbanmilwaukee.com
X-WR-CALDESC:Events for Urban Milwaukee
BEGIN:VEVENT
DTSTART;TZID=America/Chicago:20171016T190000
DTEND;TZID=America/Chicago:20171016T203000
DTSTAMP:20260423T202952
CREATED:20170928T153407Z
LAST-MODIFIED:20170928T153407Z
UID:376799-1508180400-1508185800@urbanmilwaukee.com
SUMMARY:Urban Ecology Book Launch and Author Talk with Ken Leinbach
DESCRIPTION:The print version of the Urban Ecology book written by our executive director Ken Leinbach is here\, let’s celebrate! We’ll present an interactive reading\, a chance to chat with the author\, and appreciation for all who make the UEC a reality\, followed by a short nighttime hike for those who are interested. This will be the first opportunity to purchase paperback copies of the book and they’ll be signed by Ken. Come celebrate with us! \n
URL:https://urbanmilwaukee.com/event/urban-ecology-book-launch-and-author-talk-with-ken-leinbach/
LOCATION:1500 E. Park Pl\, Milwaukee\, WI\, 53211\, United States
CATEGORIES:Arts & Entertainment
ATTACH;FMTTYPE=image/jpeg:https://urbanmilwaukee.com/wp-content/uploads/2017/09/bookcover.jpg
END:VEVENT
END:VCALENDAR