BEGIN:VCALENDAR
VERSION:2.0
PRODID:-//Urban Milwaukee - ECPv4.6.9//NONSGML v1.0//EN
CALSCALE:GREGORIAN
METHOD:PUBLISH
X-WR-CALNAME:Urban Milwaukee
X-ORIGINAL-URL:https://urbanmilwaukee.com
X-WR-CALDESC:Events for Urban Milwaukee
BEGIN:VEVENT
DTSTART;TZID=America/Chicago:20190501T193000
DTEND;TZID=America/Chicago:20190501T223000
DTSTAMP:20260421T131832
CREATED:20190212T103746Z
LAST-MODIFIED:20190212T103746Z
UID:440781-1556739000-1556749800@urbanmilwaukee.com
SUMMARY:Trapper Schoepp
DESCRIPTION:Come celebrate Trapper‘s birthday and send him and his band off on the USA leg of their world tour for Primetime Illusion – the Patrick Sansone (Wilco) produced album that features a co-write with Bob Dylan called “On\, Wisconsin.” Also\, pick up a bag of Anodyne’s “On\, Wisconsin” blend while you’re here. \n$12 tickets available in advance or $15 at the door \n
URL:https://urbanmilwaukee.com/event/trapper-schoepp/
LOCATION:224 W. Bruce St.\, Milwaukee\, WI\, 53204\, United States
CATEGORIES:Arts & Entertainment
ATTACH;FMTTYPE=image/jpeg:https://urbanmilwaukee.com/wp-content/uploads/2019/02/05.01.19-TRAPPER.jpg
END:VEVENT
END:VCALENDAR