BEGIN:VCALENDAR
VERSION:2.0
PRODID:-//Urban Milwaukee - ECPv4.6.9//NONSGML v1.0//EN
CALSCALE:GREGORIAN
METHOD:PUBLISH
X-WR-CALNAME:Urban Milwaukee
X-ORIGINAL-URL:https://urbanmilwaukee.com
X-WR-CALDESC:Events for Urban Milwaukee
BEGIN:VEVENT
DTSTART;TZID=America/Chicago:20160910T100000
DTEND;TZID=America/Chicago:20160910T160000
DTSTAMP:20260424T041925
CREATED:20160825T053546Z
LAST-MODIFIED:20160825T053546Z
UID:181185-1473501600-1473523200@urbanmilwaukee.com
SUMMARY:Tomato Romp Festival
DESCRIPTION:Join us in celebrating the East Side Business Improvement District’s 10th Annual Tomato Romp Festival taking place on Saturday\, September 10th from 10AM to 4PM on Milwaukee’s east side. A day of throwing tomatoes\, live music\, the East Side Green Market and Black Cat Alley live large-scale street art mural installations. All proceeds go to Hunger Task Force. More information at www.tomatoromp.com \n
URL:https://urbanmilwaukee.com/event/tomato-romp-festival/
CATEGORIES:Arts & Entertainment,Food & Drink
ATTACH;FMTTYPE=image/png:https://urbanmilwaukee.com/wp-content/uploads/2016/08/TomatoRompLogo.png
END:VEVENT
END:VCALENDAR