BEGIN:VCALENDAR
VERSION:2.0
PRODID:-//Urban Milwaukee - ECPv4.6.9//NONSGML v1.0//EN
CALSCALE:GREGORIAN
METHOD:PUBLISH
X-WR-CALNAME:Urban Milwaukee
X-ORIGINAL-URL:https://urbanmilwaukee.com
X-WR-CALDESC:Events for Urban Milwaukee
BEGIN:VEVENT
DTSTART;TZID=America/Chicago:20160903T100000
DTEND;TZID=America/Chicago:20160903T180000
DTSTAMP:20260424T065917
CREATED:20161004T121646Z
LAST-MODIFIED:20161004T121646Z
UID:182520-1472896800-1472925600@urbanmilwaukee.com
SUMMARY:Third Ward Art Festival
DESCRIPTION:Amdur Productions proudly announces the 5th annual Third Ward Art Festival\, located in the heart of Milwaukee’s thriving arts and fashion district. Exquisite artwork of all mediums including ceramics\, fiber\, glass\, jewelry\, sculpture\, mixed media\, paintings\, drawings\, photography\, printmaking\, wood and furniture will be represented at the festival. Free and open to the public\, the Third Ward Art Festival showcases the work of more than 140-juried artists\, 36 of whom are from Wisconsin. In addition to the incredible artwork available for purchase\, attendees will be able to interact with artists through demonstrations and booth chats. With a wide range of price points and an ample selection of artwork\, the festival offers something for everyone! \n
URL:https://urbanmilwaukee.com/event/third-ward-art-festival/
CATEGORIES:Arts & Entertainment
ATTACH;FMTTYPE=image/jpeg:https://urbanmilwaukee.com/wp-content/uploads/2016/08/0511-COPY-Lower-Res.jpg
END:VEVENT
END:VCALENDAR