BEGIN:VCALENDAR
VERSION:2.0
PRODID:-//Urban Milwaukee - ECPv4.6.9//NONSGML v1.0//EN
CALSCALE:GREGORIAN
METHOD:PUBLISH
X-WR-CALNAME:Urban Milwaukee
X-ORIGINAL-URL:https://urbanmilwaukee.com
X-WR-CALDESC:Events for Urban Milwaukee
BEGIN:VEVENT
DTSTART;TZID=America/Chicago:20161016T140000
DTEND;TZID=America/Chicago:20161016T170000
DTSTAMP:20260424T042819
CREATED:20161006T170620Z
LAST-MODIFIED:20161006T170700Z
UID:184418-1476626400-1476637200@urbanmilwaukee.com
SUMMARY:Think Pink MKE: Breast Cancer Awareness Expo
DESCRIPTION:Join us as we gather\, mingle\, laugh\, and enjoy each other’s company during the Think Pink MKE breast cancer awareness expo. We are sure to have an AMAZING time as you get to view our showcase of local businesses\, engage in a Kohl’s Converstaion for the Cure\, and recieve a FREE on-site breast exam!\nEnjoy the inviting atmosphere of Chic Lounge and enjoy sounds by Milwaukee’s hottest– Dj O. No event is complete without a raffle! Come out and enjoy an uplifting\, informative\, and empowering expo\n#ThinkPinkMKE \n
URL:https://urbanmilwaukee.com/event/think-pink-mke-breast-cancer-awareness-expo/
CATEGORIES:Arts & Entertainment
ATTACH;FMTTYPE=image/jpeg:https://urbanmilwaukee.com/wp-content/uploads/2016/09/AWash-ThinkPink16-Flyer-final-01.jpg
END:VEVENT
END:VCALENDAR