BEGIN:VCALENDAR
VERSION:2.0
PRODID:-//Urban Milwaukee - ECPv4.6.9//NONSGML v1.0//EN
CALSCALE:GREGORIAN
METHOD:PUBLISH
X-WR-CALNAME:Urban Milwaukee
X-ORIGINAL-URL:https://urbanmilwaukee.com
X-WR-CALDESC:Events for Urban Milwaukee
BEGIN:VEVENT
DTSTART;TZID=America/Chicago:20171020T073000
DTEND;TZID=America/Chicago:20171020T220000
DTSTAMP:20260424T050916
CREATED:20170922T180456Z
LAST-MODIFIED:20170922T180456Z
UID:375210-1508484600-1508536800@urbanmilwaukee.com
SUMMARY:The World Famous Glenn Miller Orchestra
DESCRIPTION:The legendary Glenn Miller was one of the most successful of all dance bandleaders back in the Swing Era of the 1930’s and 40’s. A matchless string of hit records\, the constant impact of radio broadcasts and the drawing power at theatres\, hotels and dance pavilion\, built and sustained the momentum of popularity. \nGlenn disbanded his musical organization in 1942 at the height of its popularity to volunteer for the Army. There\, he organized and led the famous Glenn Miller Army Air Force Band. It went to Europe to entertain servicemen performing numerous live and radio shows. On December 15\, 1944\, Major Miller took off in a single engine plane from Europe to precede his band to France\, disappearing over the English Channel\, never to be seen again. The army declared him officially dead a year later. \nWith the release of the major motion movie The Glenn Miller Story featuring Jimmy Stewart and June Allyson in 1954\, interest and popular demand led the Miller Estate to authorize the formation of the present Glenn Miller Orchestra. On June 6\, 1956\, and under the direction of drummer Ray McKinley who had become the unofficial leader of the Army Air Force Band after Glenn’s disappearance\, the reformed Glenn Miller Orchestra performed its first concert and has been on the road ever since. Other leaders have followed and since January 2012\, vocalist Nick Hilscher has led the band. \nToday\, the 18 member ensemble continues to play many of the original Miller arrangements both from the civilian band and the AAFB libraries. Just as it was in Glenn’s day\, the Glenn Miller Orchestra today is still the most sought after big band in the world. \n
URL:https://urbanmilwaukee.com/event/the-world-famous-glenn-miller-orchestra/
LOCATION:929 N. Water St.\, Milwaukee\, WI\, 53202\, United States
CATEGORIES:Arts & Entertainment
ATTACH;FMTTYPE=image/jpeg:https://urbanmilwaukee.com/wp-content/uploads/2017/09/PTA-GMO-pic1.jpg
END:VEVENT
END:VCALENDAR