BEGIN:VCALENDAR
VERSION:2.0
PRODID:-//Urban Milwaukee - ECPv4.6.9//NONSGML v1.0//EN
CALSCALE:GREGORIAN
METHOD:PUBLISH
X-WR-CALNAME:Urban Milwaukee
X-ORIGINAL-URL:https://urbanmilwaukee.com
X-WR-CALDESC:Events for Urban Milwaukee
BEGIN:VEVENT
DTSTART;VALUE=DATE:20201204
DTEND;VALUE=DATE:20201215
DTSTAMP:20260419T161426
CREATED:20201015T230226Z
LAST-MODIFIED:20201212T170935Z
UID:547606-1607040000-1607990399@urbanmilwaukee.com
SUMMARY:VIRTUAL - The Two Gentlemen of Verona
DESCRIPTION:Betrayal. Love. Disguise. Join our award-winning Young Company as they present one of Shakespeare’s earliest and least performed plays. \nPerformance runtime is approximately two hours and 15 minutes\, with one 10-minute intermission. Suggested for families with young people ages 13+ \nOur Young Company Performance Projects are actor-driven presentations using elemental production values. By stripping down to a nearly bare stage. the connection of actor to audience is enhanced\, and the words of the play come alive in exciting ways. \n
URL:https://urbanmilwaukee.com/event/the-two-gentlemen-of-verona-online/
CATEGORIES:Arts & Entertainment
ATTACH;FMTTYPE=image/jpeg:https://urbanmilwaukee.com/wp-content/uploads/2020/09/TwoGentlemenofVerona_Square.jpg
END:VEVENT
END:VCALENDAR