BEGIN:VCALENDAR
VERSION:2.0
PRODID:-//Urban Milwaukee - ECPv4.6.9//NONSGML v1.0//EN
CALSCALE:GREGORIAN
METHOD:PUBLISH
X-WR-CALNAME:Urban Milwaukee
X-ORIGINAL-URL:https://urbanmilwaukee.com
X-WR-CALDESC:Events for Urban Milwaukee
BEGIN:VEVENT
DTSTART;TZID=America/Chicago:20190328T190000
DTEND;TZID=America/Chicago:20190328T210000
DTSTAMP:20260422T195222
CREATED:20190220T183856Z
LAST-MODIFIED:20190220T183856Z
UID:442264-1553799600-1553806800@urbanmilwaukee.com
SUMMARY:The Social @ Tavern at Turner Hall
DESCRIPTION:We take the stuffiness out of the average networking event by throwing in food and drink specials\, showcasing the city’s newest venues\, and bringing in local artists and musicians. The Social presented by The Lueder Financial Group of Northwestern Mutual brings together hundreds of young professionals – whether you’ve lived here for awhile or are brand new to Milwaukee – to share a drink\, meet each other\, and meet the city! \nAll are welcome to join the NEWaukee Socials\, whether individually or in a group. There is no cost or membership fee and the dress code is open. \n
URL:https://urbanmilwaukee.com/event/the-social-tavern-at-turner-hall/
LOCATION:1034 N. Vel R. Phillips Ave.\, Milwaukee\, WI\, 53203\, United States
CATEGORIES:Arts & Entertainment,Business
ATTACH;FMTTYPE=image/jpeg:https://urbanmilwaukee.com/wp-content/uploads/2019/02/MAR2019-Social_1140x640.jpg
END:VEVENT
END:VCALENDAR