BEGIN:VCALENDAR
VERSION:2.0
PRODID:-//Urban Milwaukee - ECPv4.6.9//NONSGML v1.0//EN
CALSCALE:GREGORIAN
METHOD:PUBLISH
X-WR-CALNAME:Urban Milwaukee
X-ORIGINAL-URL:https://urbanmilwaukee.com
X-WR-CALDESC:Events for Urban Milwaukee
BEGIN:VEVENT
DTSTART;TZID=America/Chicago:20200130T180000
DTEND;TZID=America/Chicago:20200130T210000
DTSTAMP:20260422T061250
CREATED:20200111T084408Z
LAST-MODIFIED:20200111T084408Z
UID:493768-1580407200-1580418000@urbanmilwaukee.com
SUMMARY:The Social at Whitetail MKE
DESCRIPTION:Meet New People\, Meet Milwaukee. \nJoin us as we take the stuffiness out of the average networking event by throwing in drink specials\, showcasing the city’s newest venues\, and bringing in local musicians. \nThe Social helps connect Milwaukeeans to each other and the place they call home. All are welcome to join the NEWaukee Socials\, whether individually or in a group. There is no cost or membership fee and the dress code is open. \n
URL:https://urbanmilwaukee.com/event/the-social-at-whitetail-mke/
LOCATION:1110 N. Old World 3rd St.\, Milwaukee\, WI\, 53203\, United States
CATEGORIES:Business,Food & Drink
ATTACH;FMTTYPE=image/png:https://urbanmilwaukee.com/wp-content/uploads/2020/01/JAN2020-SOCIAL_CALENDAR.png
END:VEVENT
END:VCALENDAR