BEGIN:VCALENDAR
VERSION:2.0
PRODID:-//Urban Milwaukee - ECPv4.6.9//NONSGML v1.0//EN
CALSCALE:GREGORIAN
METHOD:PUBLISH
X-WR-CALNAME:Urban Milwaukee
X-ORIGINAL-URL:https://urbanmilwaukee.com
X-WR-CALDESC:Events for Urban Milwaukee
BEGIN:VEVENT
DTSTART;TZID=America/Chicago:20251024T180000
DTEND;TZID=America/Chicago:20251024T235900
DTSTAMP:20260421T170355
CREATED:20251007T185620Z
LAST-MODIFIED:20251007T191347Z
UID:908208-1761328800-1761350340@urbanmilwaukee.com
SUMMARY:The Simsons/Tlalok/TRIPTYCH at Uptowner
DESCRIPTION:Stop by the Uptowner for a FREE show on Friday\, October 24th featuring THE SIMSONS\, weird prog rock jazz fusion all the way from Kankakee\, IL. Local acts TRIPTYCH & Tlalok will be splitting the bill\, check the full schedule below. \n6-8:15 p.m. ~ Tlalok\n8:45-10:15  p.m. ~ The Simsons (Kankakee\, IL)\n10:30-12 a.m. ~ TRIPTYCH \nAll we can say is that you won’t wanna miss out on this epic night at one of Wisconsin’s Oldest bars! \nThe Simsons ~ https://www.instagram.com/the_simsons_band/\nTRIPTYCH ~ https://www.facebook.com/profile.php?id=100092576262598#\nTlalok ~ https://www.flow.page/tlalok-music \n
URL:https://urbanmilwaukee.com/event/the-simsons-tlalok-triptych-at-uptowner/
LOCATION:1032 E. Center St.\, Milwaukee\, WI\, 53211\, United States
CATEGORIES:Arts & Entertainment
ATTACH;FMTTYPE=image/png:https://urbanmilwaukee.com/wp-content/uploads/2025/10/10425.png
END:VEVENT
END:VCALENDAR