BEGIN:VCALENDAR
VERSION:2.0
PRODID:-//Urban Milwaukee - ECPv4.6.9//NONSGML v1.0//EN
CALSCALE:GREGORIAN
METHOD:PUBLISH
X-WR-CALNAME:Urban Milwaukee
X-ORIGINAL-URL:https://urbanmilwaukee.com
X-WR-CALDESC:Events for Urban Milwaukee
BEGIN:VEVENT
DTSTART;TZID=America/Chicago:20251114T190000
DTEND;TZID=America/Chicago:20251114T190000
DTSTAMP:20260423T032330
CREATED:20251028T171905Z
LAST-MODIFIED:20251028T171905Z
UID:914461-1763146800-1763146800@urbanmilwaukee.com
SUMMARY:The Rose of Treason
DESCRIPTION:YOUNG COMPANY PERFORMANCE PROJECT \n\nBy James DeVita\nBased on the true story of Sophie Scholl and The White Rose \nIn 1943\, a group of university students in Germany were appalled at the truth that was coming to light about the Nazi Party. They started a resistance group aimed at bringing down Hitler and the Nazi regime. Their story is one of breathtaking courage\, selflessness\, and utter faith in what is right. The efforts of The White Rose are an inspiring tribute to the goodness of humanity shining even in the darkest moments of history. \nProduced by special arrangement with THE DRAMATIC PUBLISHING COMPANY of Woodstock\, Illinois. \nPerformances are in partnership with the Violins of Hope-Wisconsin presented by Milwaukee Youth Symphony Orchestra (MYSO). \nPay What You Choose \n\nRuntime\nThe runtime of this play is: Approximately 90 minutes including a brief intermission \n\n\nAge Recommendation\nThe age recommendation of this play is: Recommended for families with young people ages 12-18 and courageous leaders of all ages \n\n\n
URL:https://urbanmilwaukee.com/event/the-rose-of-treason-6/
LOCATION:325 W. Walnut St.\, Milwaukee\, WI\, 53212\, United States
CATEGORIES:Arts & Entertainment,Kids
ATTACH;FMTTYPE=image/jpeg:https://urbanmilwaukee.com/wp-content/uploads/2025/10/RoseofTreason-LandingThumbnail-New.jpg
END:VEVENT
END:VCALENDAR