BEGIN:VCALENDAR
VERSION:2.0
PRODID:-//Urban Milwaukee - ECPv4.6.9//NONSGML v1.0//EN
CALSCALE:GREGORIAN
METHOD:PUBLISH
X-WR-CALNAME:Urban Milwaukee
X-ORIGINAL-URL:https://urbanmilwaukee.com
X-WR-CALDESC:Events for Urban Milwaukee
BEGIN:VEVENT
DTSTART;TZID=America/Chicago:20190808T190000
DTEND;TZID=America/Chicago:20190808T200000
DTSTAMP:20260422T143253
CREATED:20190804T123344Z
LAST-MODIFIED:20190804T123344Z
UID:466218-1565290800-1565294400@urbanmilwaukee.com
SUMMARY:The Ron Burgundy’s Live at the Peck
DESCRIPTION:Experience a night of yacht rock and softcore rock of the 60s\, 70s\, 80s! \n
URL:https://urbanmilwaukee.com/event/the-ron-burgundys-live-at-the-peck/
LOCATION:929 N. Water St.\, Milwaukee\, WI\, 53202\, United States
CATEGORIES:Arts & Entertainment
ATTACH;FMTTYPE=image/jpeg:https://urbanmilwaukee.com/wp-content/uploads/2017/06/IMG_2856.jpg
END:VEVENT
END:VCALENDAR