BEGIN:VCALENDAR
VERSION:2.0
PRODID:-//Urban Milwaukee - ECPv4.6.9//NONSGML v1.0//EN
CALSCALE:GREGORIAN
METHOD:PUBLISH
X-WR-CALNAME:Urban Milwaukee
X-ORIGINAL-URL:https://urbanmilwaukee.com
X-WR-CALDESC:Events for Urban Milwaukee
BEGIN:VEVENT
DTSTART;TZID=America/Chicago:20231104T190000
DTEND;TZID=America/Chicago:20231104T210000
DTSTAMP:20260419T181920
CREATED:20231102T043658Z
LAST-MODIFIED:20231102T043658Z
UID:747913-1699124400-1699131600@urbanmilwaukee.com
SUMMARY:The Robert Austin Project
DESCRIPTION:The Robert Austin Project is an acoustic band project playing a mixture favorite Americana and progressive country songs\, with a touch of tequila thrown in. Artist covers include Eagles\, America\, Kenny Chesney\, Darius Rucker\, Jimmy Buffet\, Marshall Tucker Band\, and more. All seating is first come first served. There is no reserved seating. \n
URL:https://urbanmilwaukee.com/event/the-robert-austin-project/
LOCATION:1515 W Mequon Road\, Mequon\, WI\, 53092\, United States
CATEGORIES:Arts & Entertainment
ATTACH;FMTTYPE=image/jpeg:https://urbanmilwaukee.com/wp-content/uploads/2023/10/51350.jpg
END:VEVENT
END:VCALENDAR