BEGIN:VCALENDAR
VERSION:2.0
PRODID:-//Urban Milwaukee - ECPv4.6.9//NONSGML v1.0//EN
CALSCALE:GREGORIAN
METHOD:PUBLISH
X-WR-CALNAME:Urban Milwaukee
X-ORIGINAL-URL:https://urbanmilwaukee.com
X-WR-CALDESC:Events for Urban Milwaukee
BEGIN:VEVENT
DTSTART;TZID=America/Chicago:20200531T070000
DTEND;TZID=America/Chicago:20200531T150000
DTSTAMP:20260424T160020
CREATED:20191013T221202Z
LAST-MODIFIED:20191013T221202Z
UID:478162-1590908400-1590937200@urbanmilwaukee.com
SUMMARY:The Ride for the Arts
DESCRIPTION:The UPAF Ride for the Arts is Wisconsin’s largest one-day recreational bike ride. Event proceeds ensure our 14 Member Groups can focus their time on what they do best – creating\, performing\, educating and inspiring. Donations and pledges collected by our riders go back into the community and help keep the arts thriving in southeastern Wisconsin. Your pledge dollars mean more kids learn and excel in theater\, dance and music; more jobs are created\, and more individuals and families come together to enjoy the arts. \nThe Ride is open to all ages and cycling skill levels. The route options include 5- miles\, 12-miles\, 25-miles\, 45-miles\, and 70-miles. All Routes begin and end at the Summerfest Grounds\, Henry Meier Festival Park\, 100 N. Harbor Dr.\, Milwaukee\, WI. This years ride is special because it’s the 40th anniversary which will take place on Sunday\, May 31st\, 2020. Rider registration is open now on UPAFRide.org. \n
URL:https://urbanmilwaukee.com/event/the-ride-for-the-arts/
LOCATION:635 E. Summerfest Pl.\, Milwaukee\, WI\, 53202\, United States
CATEGORIES:Arts & Entertainment
ATTACH;FMTTYPE=image/jpeg:https://urbanmilwaukee.com/wp-content/uploads/2018/11/Untitled-design-3.jpg
END:VEVENT
END:VCALENDAR